Workbook

Sheet MONTHLY STATS
A1: MISSOURI GAMING COMMISSION
A2: FISCAL 2027 YTD ADMISSIONS, PATRONS AND AGR SUMMARY
A3: MONTH ENDED: AUGUST 31, 2026
A4: (as reported on the tax remittal database dtd 9/9/26)
I5: CURR YR | J5: CURR YR
B6: CURR | C6: CURR YR | D6: PRIOR YR | F6: CURR YR | G6: PRIOR YR | I6: WIN PER | J6: WIN PER | K6: CURR YR | L6: PRIOR YR
A7: BOAT | B7: YEAR | C7: ADMISSIONS | D7: ADMISSIONS | E7: % CHG | F7: PATRONS | G7: PATRONS | H7: % CHG | I7: ADMISSION | J7: PATRON | K7: TOTAL AGR | L7: TOTAL AGR | M7: % CHG
A9: ARGOSY | B9: =DATE(2026,7,1) -> 46204 | C9: 189126 | D9: 180280 | E9: =(+C9-D9)/D9 -> 0.049068116 | F9: =+C9-89676 -> 99450 | G9: =+D9-86141 -> 94139 | H9: =(+F9-G9)/G9 -> 0.056416575 | I9: =K9/C9 -> 76.80451 | J9: =K9/F9 -> 146.06063 | K9: 14525730 | L9: 13660297 | M9: =(+K9-L9)/L9 -> 0.063353877
B10: =DATE(2026,8,1) -> 46235 | C10: 189063 | D10: 189582 | E10: =(+C10-D10)/D10 -> -0.0027376017 | F10: =+C10-91174 -> 97889 | G10: =+D10-90399 -> 99183 | H10: =(+F10-G10)/G10 -> -0.013046591 | I10: =K10/C10 -> 75.822772 | J10: =K10/F10 -> 146.44425 | K10: 14335281 | L10: 14809225 | M10: =(+K10-L10)/L10 -> -0.032003287
A12: TOTALS: | C12: =SUM(C9:C11) -> 378189 | D12: =SUM(D9:D11) -> 369862 | E12: =(+C12-D12)/D12 -> 0.022513802 | F12: =SUM(F9:F11) -> 197339 | G12: =SUM(G9:G11) -> 193322 | H12: =(+F12-G12)/G12 -> 0.020778804 | I12: =K12/C12 -> 76.313723 | J12: =K12/F12 -> 146.25092 | K12: =SUM(K9:K11) -> 28861010 | L12: =SUM(L9:L11) -> 28469522 | M12: =(+K12-L12)/L12 -> 0.013751159
A14: IOC - BOONVILLE | B14: =DATE(2026,7,1) -> 46204 | C14: 104355 | D14: 107305 | E14: =(+C14-D14)/D14 -> -0.027491729 | F14: =+C14-50736 -> 53619 | G14: =+D14-51168 -> 56137 | H14: =(+F14-G14)/G14 -> -0.044854552 | I14: =K14/C14 -> 80.840713 | J14: =K14/F14 -> 157.33476 | K14: 8436132.6 | L14: 8360597.3 | M14: =(+K14-L14)/L14 -> 0.0090346786
B15: =DATE(2026,8,1) -> 46235 | C15: 107461 | D15: 110037 | E15: =(+C15-D15)/D15 -> -0.023410307 | F15: =+C15-52878 -> 54583 | G15: =+D15-52170 -> 57867 | H15: =(+F15-G15)/G15 -> -0.056750825 | I15: =K15/C15 -> 78.559076 | J15: =K15/F15 -> 154.66422 | K15: 8442036.9 | L15: 8357716.7 | M15: =(+K15-L15)/L15 -> 0.010088901
A17: TOTALS: | C17: =SUM(C14:C16) -> 211816 | D17: =SUM(D14:D16) -> 217342 | E17: =(+C17-D17)/D17 -> -0.025425366 | F17: =SUM(F14:F16) -> 108202 | G17: =SUM(G14:G16) -> 114004 | H17: =(+F17-G17)/G17 -> -0.050892951 | I17: =K17/C17 -> 79.683166 | J17: =K17/F17 -> 155.98759 | K17: =SUM(K14:K16) -> 16878169 | L17: =SUM(L14:L16) -> 16718314 | M17: =(+K17-L17)/L17 -> 0.0095616992
A19: CENTURY-CARUTHERSVILLE | B19: =DATE(2026,7,1) -> 46204 | C19: 76459 | D19: 72536 | E19: =(+C19-D19)/D19 -> 0.05408349 | F19: =+C19-42930 -> 33529 | G19: =+D19-42110 -> 30426 | H19: =(+F19-G19)/G19 -> 0.10198514 | I19: =K19/C19 -> 70.230217 | J19: =K19/F19 -> 160.15187 | K19: 5369732.2 | L19: 5102921.8 | M19: =(+K19-L19)/L19 -> 0.052285804
B20: =DATE(2026,8,1) -> 46235 | C20: 73307 | D20: 76450 | E20: =(+C20-D20)/D20 -> -0.041111838 | F20: =+C20-41179 -> 32128 | G20: =+D20-44909 -> 31541 | H20: =(+F20-G20)/G20 -> 0.018610697 | I20: =K20/C20 -> 70.579765 | J20: =K20/F20 -> 161.04304 | K20: 5173990.8 | L20: 5368968.5 | M20: =(+K20-L20)/L20 -> -0.036315667
A22: TOTALS: | C22: =SUM(C19:C21) -> 149766 | D22: =SUM(D19:D21) -> 148986 | E22: =(+C22-D22)/D22 -> 0.0052353912 | F22: =SUM(F19:F21) -> 65657 | G22: =SUM(G19:G21) -> 61967 | H22: =(+F22-G22)/G22 -> 0.059547824 | I22: =K22/C22 -> 70.401313 | J22: =K22/F22 -> 160.58795 | K22: =SUM(K19:K21) -> 10543723 | L22: =SUM(L19:L21) -> 10471890 | M22: =(+K22-L22)/L22 -> 0.0068595734
A24: HOLLYWOOD | B24: =DATE(2026,7,1) -> 46204 | C24: 331943 | D24: 313197 | E24: =(+C24-D24)/D24 -> 0.059853702 | F24: =+C24-176098 -> 155845 | G24: =+D24-156640 -> 156557 | H24: =(+F24-G24)/G24 -> -0.0045478644 | I24: =K24/C24 -> 70.057017 | J24: =K24/F24 -> 149.21837 | K24: 23254936 | L24: 22059210 | M24: =(+K24-L24)/L24 -> 0.054205304
B25: =DATE(2026,8,1) -> 46235 | C25: 334452 | D25: 333263 | E25: =(+C25-D25)/D25 -> 0.0035677528 | F25: =+C25-177647 -> 156805 | G25: =+D25-168558 -> 164705 | H25: =(+F25-G25)/G25 -> -0.047964543 | I25: =K25/C25 -> 66.324207 | J25: =K25/F25 -> 141.46401 | K25: 22182264 | L25: 23729382 | M25: =(+K25-L25)/L25 -> -0.065198407
A27: TOTALS: | C27: =SUM(C24:C26) -> 666395 | D27: =SUM(D24:D26) -> 646460 | E27: =(+C27-D27)/D27 -> 0.030837175 | F27: =SUM(F24:F26) -> 312650 | G27: =SUM(G24:G26) -> 321262 | H27: =(+F27-G27)/G27 -> -0.026806781 | I27: =K27/C27 -> 68.183585 | J27: =K27/F27 -> 145.32928 | K27: =SUM(K24:K26) -> 45437200 | L27: =SUM(L24:L26) -> 45788592 | M27: =(+K27-L27)/L27 -> -0.0076742192
A29: HARRAHS KC | B29: =DATE(2026,7,1) -> 46204 | C29: 177912 | D29: 189028 | E29: =(+C29-D29)/D29 -> -0.058806103 | F29: =+C29-83696 -> 94216 | G29: =+D29-89606 -> 99422 | H29: =(+F29-G29)/G29 -> -0.052362656 | I29: =K29/C29 -> 87.632682 | J29: =K29/F29 -> 165.48045 | K29: 15590906 | L29: 14506590 | M29: =(+K29-L29)/L29 -> 0.074746456
B30: =DATE(2026,8,1) -> 46235 | C30: 177917 | D30: 194053 | E30: =(+C30-D30)/D30 -> -0.083152541 | F30: =+C30-85133 -> 92784 | G30: =+D30-90254 -> 103799 | H30: =(+F30-G30)/G30 -> -0.10611856 | I30: =K30/C30 -> 84.009008 | J30: =K30/F30 -> 161.09061 | K30: 14946631 | L30: 16145692 | M30: =(+K30-L30)/L30 -> -0.074265099
A32: TOTALS: | C32: =SUM(C29:C31) -> 355829 | D32: =SUM(D29:D31) -> 383081 | E32: =(+C32-D32)/D32 -> -0.071139002 | F32: =SUM(F29:F31) -> 187000 | G32: =SUM(G29:G31) -> 203221 | H32: =(+F32-G32)/G32 -> -0.079819507 | I32: =K32/C32 -> 85.82082 | J32: =K32/F32 -> 163.30233 | K32: =SUM(K29:K31) -> 30537536 | L32: =SUM(L29:L31) -> 30652282 | M32: =(+K32-L32)/L32 -> -0.0037434495
A34: CENTURY- CAPE | B34: =DATE(2026,7,1) -> 46204 | C34: 96729 | D34: 94878 | E34: =(+C34-D34)/D34 -> 0.019509265 | F34: =+C34-48349 -> 48380 | G34: =+D34-48029 -> 46849 | H34: =(+F34-G34)/G34 -> 0.03267946 | I34: =K34/C34 -> 64.137018 | J34: =K34/F34 -> 128.23294 | K34: 6203909.6 | L34: 5867584.7 | M34: =(+K34-L34)/L34 -> 0.057319144
B35: =DATE(2026,8,1) -> 46235 | C35: 95116 | D35: 97250 | E35: =(+C35-D35)/D35 -> -0.021943445 | F35: =+C35-46444 -> 48672 | G35: =+D35-49642 -> 47608 | H35: =(+F35-G35)/G35 -> 0.022349185 | I35: =K35/C35 -> 63.943884 | J35: =K35/F35 -> 124.96068 | K35: 6082086.4 | L35: 6088792 | M35: =(+K35-L35)/L35 -> -0.001101294
A37: TOTALS: | C37: =SUM(C34:C36) -> 191845 | D37: =SUM(D34:D36) -> 192128 | E37: =(+C37-D37)/D37 -> -0.0014729763 | F37: =SUM(F34:F36) -> 97052 | G37: =SUM(G34:G36) -> 94457 | H37: =(+F37-G37)/G37 -> 0.027472818 | I37: =K37/C37 -> 64.041263 | J37: =K37/F37 -> 126.59189 | K37: =SUM(K34:K36) -> 12285996 | L37: =SUM(L34:L36) -> 11956377 | M37: =(+K37-L37)/L37 -> 0.027568501
A39: BALLY'S KANSAS CITY | B39: =DATE(2026,7,1) -> 46204 | C39: 198801 | D39: 204452 | E39: =(+C39-D39)/D39 -> -0.027639739 | F39: =+C39-91541 -> 107260 | G39: =+D39-91736 -> 112716 | H39: =(+F39-G39)/G39 -> -0.04840484 | I39: =K39/C39 -> 54.905665 | J39: =K39/F39 -> 101.76488 | K39: 10915301 | L39: 11066469 | M39: =(+K39-L39)/L39 -> -0.01366002
B40: =DATE(2026,8,1) -> 46235 | C40: 206532 | D40: 206255 | E40: =(+C40-D40)/D40 -> 0.0013429977 | F40: =+C40-95955 -> 110577 | G40: =+D40-94629 -> 111626 | H40: =(+F40-G40)/G40 -> -0.0093974522 | I40: =K40/C40 -> 51.787616 | J40: =K40/F40 -> 96.727167 | K40: 10695800 | L40: 11290461 | M40: =(+K40-L40)/L40 -> -0.052669315
A42: TOTALS: | C42: =SUM(C39:C41) -> 405333 | D42: =SUM(D39:D41) -> 410707 | E42: =(+C42-D42)/D42 -> -0.013084754 | F42: =SUM(F39:F41) -> 217837 | G42: =SUM(G39:G41) -> 224342 | H42: =(+F42-G42)/G42 -> -0.028995908 | I42: =K42/C42 -> 53.316905 | J42: =K42/F42 -> 99.20767 | K42: =SUM(K39:K41) -> 21611101 | L42: =SUM(L39:L41) -> 22356930 | M42: =(+K42-L42)/L42 -> -0.033360082
A44: HORSESHOE ST. LOUIS | B44: =DATE(2026,7,1) -> 46204 | C44: 228050 | D44: 216398 | E44: =(+C44-D44)/D44 -> 0.05384523 | F44: =+C44-102462 -> 125588 | G44: =+D44-97090 -> 119308 | H44: =(+F44-G44)/G44 -> 0.052636873 | I44: =K44/C44 -> 64.115549 | J44: =K44/F44 -> 116.42475 | K44: 14621551 | L44: 14459196 | M44: =(+K44-L44)/L44 -> 0.011228519
B45: =DATE(2026,8,1) -> 46235 | C45: 212177 | D45: 230610 | E45: =(+C45-D45)/D45 -> -0.079931486 | F45: =+C45-93578 -> 118599 | G45: =+D45-104945 -> 125665 | H45: =(+F45-G45)/G45 -> -0.056228862 | I45: =K45/C45 -> 66.151507 | J45: =K45/F45 -> 118.34694 | K45: 14035828 | L45: 15344965 | M45: =(+K45-L45)/L45 -> -0.085313797
A47: TOTALS: | C47: =SUM(C44:C46) -> 440227 | D47: =SUM(D44:D46) -> 447008 | E47: =(+C47-D47)/D47 -> -0.015169751 | F47: =SUM(F44:F46) -> 244187 | G47: =SUM(G44:G46) -> 244973 | H47: =(+F47-G47)/G47 -> -0.0032085169 | I47: =K47/C47 -> 65.096823 | J47: =K47/F47 -> 117.35833 | K47: =SUM(K44:K46) -> 28657379 | L47: =SUM(L44:L46) -> 29804161 | M47: =(+K47-L47)/L47 -> -0.038477242
A49: AMERISTAR KC | B49: =DATE(2026,7,1) -> 46204 | C49: 264538 | D49: 256392 | E49: =(+C49-D49)/D49 -> 0.031771662 | F49: =+C49-140988 -> 123550 | G49: =+D49-136380 -> 120012 | H49: =(+F49-G49)/G49 -> 0.029480385 | I49: =K49/C49 -> 70.668004 | J49: =K49/F49 -> 151.31018 | K49: 18694373 | L49: 17475628 | M49: =(+K49-L49)/L49 -> 0.069739668
B50: =DATE(2026,8,1) -> 46235 | C50: 269466 | D50: 264576 | E50: =(+C50-D50)/D50 -> 0.018482402 | F50: =+C50-144661 -> 124805 | G50: =+D50-139241 -> 125335 | H50: =(+F50-G50)/G50 -> -0.0042286672 | I50: =K50/C50 -> 66.332453 | J50: =K50/F50 -> 143.21815 | K50: 17874341 | L50: 17789587 | M50: =(+K50-L50)/L50 -> 0.0047642586
A52: TOTALS: | C52: =SUM(C49:C51) -> 534004 | D52: =SUM(D49:D51) -> 520968 | E52: =(+C52-D52)/D52 -> 0.02502265 | F52: =SUM(F49:F51) -> 248355 | G52: =SUM(G49:G51) -> 245347 | H52: =(+F52-G52)/G52 -> 0.012260187 | I52: =K52/C52 -> 68.480224 | J52: =K52/F52 -> 147.24372 | K52: =SUM(K49:K51) -> 36568713 | L52: =SUM(L49:L51) -> 35265215 | M52: =(+K52-L52)/L52 -> 0.036962732
A54: RIVER CITY | B54: =DATE(2026,7,1) -> 46204 | C54: 337537 | D54: 334577 | E54: =(+C54-D54)/D54 -> 0.0088469919 | F54: =+C54-162327 -> 175210 | G54: =+D54-156657 -> 177920 | H54: =(+F54-G54)/G54 -> -0.015231565 | I54: =K54/C54 -> 72.261429 | J54: =K54/F54 -> 139.20955 | K54: 24390906 | L54: 22266366 | M54: =(+K54-L54)/L54 -> 0.095414783
B55: =DATE(2026,8,1) -> 46235 | C55: 339985 | D55: 344204 | E55: =(+C55-D55)/D55 -> -0.012257266 | F55: =+C55-167176 -> 172809 | G55: =+D55-159754 -> 184450 | H55: =(+F55-G55)/G55 -> -0.063111954 | I55: =K55/C55 -> 69.217672 | J55: =K55/F55 -> 136.17908 | K55: 23532970 | L55: 24045210 | M55: =(+K55-L55)/L55 -> -0.021303198
A57: TOTALS: | C57: =SUM(C54:C56) -> 677522 | D57: =SUM(D54:D56) -> 678781 | E57: =(+C57-D57)/D57 -> -0.0018547956 | F57: =SUM(F54:F56) -> 348019 | G57: =SUM(G54:G56) -> 362370 | H57: =(+F57-G57)/G57 -> -0.039603168 | I57: =K57/C57 -> 70.734052 | J57: =K57/F57 -> 137.70477 | K57: =SUM(K54:K56) -> 47923876 | L57: =SUM(L54:L56) -> 46311576 | M57: =(+K57-L57)/L57 -> 0.034814202
A59: MARK TWAIN | B59: =DATE(2026,7,1) -> 46204 | C59: 43738 | D59: 42805 | E59: =(+C59-D59)/D59 -> 0.021796519 | F59: =+C59-22080 -> 21658 | G59: =+D59-21502 -> 21303 | H59: =(+F59-G59)/G59 -> 0.01666432 | I59: =K59/C59 -> 75.722945 | J59: =K59/F59 -> 152.92133 | K59: 3311970.2 | L59: 2945968.8 | M59: =(+K59-L59)/L59 -> 0.12423804
B60: =DATE(2026,8,1) -> 46235 | C60: 44042 | D60: 43476 | E60: =(+C60-D60)/D60 -> 0.013018677 | F60: =+C60-22198 -> 21844 | G60: =+D60-21927 -> 21549 | H60: =(+F60-G60)/G60 -> 0.01368973 | I60: =K60/C60 -> 73.062355 | J60: =K60/F60 -> 147.30875 | K60: 3217812.2 | L60: 3020485.7 | M60: =(+K60-L60)/L60 -> 0.065329404
A62: TOTALS: | C62: =SUM(C59:C61) -> 87780 | D62: =SUM(D59:D61) -> 86281 | E62: =(+C62-D62)/D62 -> 0.017373466 | F62: =SUM(F59:F61) -> 43502 | G62: =SUM(G59:G61) -> 42852 | H62: =(+F62-G62)/G62 -> 0.015168487 | I62: =K62/C62 -> 74.388043 | J62: =K62/F62 -> 150.10304 | K62: =SUM(K59:K61) -> 6529782.4 | L62: =SUM(L59:L61) -> 5966454.5 | M62: =(+K62-L62)/L62 -> 0.09441586
A64: AMERISTAR SC | B64: =DATE(2026,7,1) -> 46204 | C64: 337201 | D64: 332760 | E64: =(+C64-D64)/D64 -> 0.013345955 | F64: =+C64-169932 -> 167269 | G64: =+D64-168404 -> 164356 | H64: =(+F64-G64)/G64 -> 0.017723722 | I64: =K64/C64 -> 80.387827 | J64: =K64/F64 -> 162.05547 | K64: 27106856 | L64: 25612206 | M64: =(+K64-L64)/L64 -> 0.058356919
B65: =DATE(2026,8,1) -> 46235 | C65: 330416 | D65: 337938 | E65: =(+C65-D65)/D65 -> -0.022258521 | F65: =+C65-164602 -> 165814 | G65: =+D65-170987 -> 166951 | H65: =(+F65-G65)/G65 -> -0.0068103815 | I65: =K65/C65 -> 80.48993 | J65: =K65/F65 -> 160.39153 | K65: 26595161 | L65: 27293472 | M65: =(+K65-L65)/L65 -> -0.025585267
A67: TOTALS: | C67: =SUM(C64:C66) -> 667617 | D67: =SUM(D64:D66) -> 670698 | E67: =(+C67-D67)/D67 -> -0.0045937218 | F67: =SUM(F64:F66) -> 333083 | G67: =SUM(G64:G66) -> 331307 | H67: =(+F67-G67)/G67 -> 0.005360587 | I67: =K67/C67 -> 80.43836 | J67: =K67/F67 -> 161.22713 | K67: =SUM(K64:K66) -> 53702017 | L67: =SUM(L64:L66) -> 52905678 | M67: =(+K67-L67)/L67 -> 0.015052046
A69: ST. JO FRONTIER | B69: =DATE(2026,7,1) -> 46204 | C69: 61487 | D69: 62531 | E69: =(+C69-D69)/D69 -> -0.016695719 | F69: =+C69-27643 -> 33844 | G69: =+D69-28002 -> 34529 | H69: =(+F69-G69)/G69 -> -0.019838397 | I69: =K69/C69 -> 70.996754 | J69: =K69/F69 -> 128.98527 | K69: 4365377.4 | L69: 4324125.6 | M69: =(+K69-L69)/L69 -> 0.0095399055
B70: =DATE(2026,8,1) -> 46235 | C70: 61747 | D70: 65265 | E70: =(+C70-D70)/D70 -> -0.053903317 | F70: =+C70-27655 -> 34092 | G70: =+D70-29137 -> 36128 | H70: =(+F70-G70)/G70 -> -0.056355182 | I70: =K70/C70 -> 68.723444 | J70: =K70/F70 -> 124.47103 | K70: 4243466.5 | L70: 4199267 | M70: =(+K70-L70)/L70 -> 0.010525523
A72: TOTALS: | C72: =SUM(C69:C71) -> 123234 | D72: =SUM(D69:D71) -> 127796 | E72: =(+C72-D72)/D72 -> -0.035697518 | F72: =SUM(F69:F71) -> 67936 | G72: =SUM(G69:G71) -> 70657 | H72: =(+F72-G72)/G72 -> -0.038509985 | I72: =K72/C72 -> 69.857701 | J72: =K72/F72 -> 126.71991 | K72: =SUM(K69:K71) -> 8608843.9 | L72: =SUM(L69:L71) -> 8523392.7 | M72: =(+K72-L72)/L72 -> 0.010025495
A74: STATE TOTALS FYTD: | C74: =C72+C67+C32+C42+C47+C22+C12+C52+C57+C27+C62+C17+C37 -> 4889557 | D74: =D72+D67+D32+D42+D47+D22+D12+D52+D57+D27+D62+D17+D37 -> 4900098 | E74: =(+C74-D74)/D74 -> -0.0021511815 | F74: =F72+F67+F32+F42+F47+F22+F12+F52+F57+F27+F62+F17+F37 -> 2470819 | G74: =G72+G67+G32+G42+G47+G22+G12+G52+G57+G27+G62+G17+G37 -> 2510081 | H74: =(+F74-G74)/G74 -> -0.015641726 | I74: =K74/C74 -> 71.201818 | J74: =K74/F74 -> 140.90281 | K74: =K72+K67+K32+K42+K47+K22+K12+K52+K57+K27+K62+K17+K37 -> 3.4814535e+08 | L74: =L72+L67+L32+L42+L47+L22+L12+L52+L57+L27+L62+L17+L37 -> 3.4519038e+08 | M74: =(+K74-L74)/L74 -> 0.008560394
A76: STATE TOTALS MTD: | C76: =+C10+C15+C20+C25+C30+C35+C40+C45+C50+C55+C60+C65+C70 -> 2441681 | D76: =+D10+D15+D20+D25+D30+D35+D40+D45+D50+D55+D60+D65+D70 -> 2492959 | E76: =(+C76-D76)/D76 -> -0.020569131 | F76: =+F10+F15+F20+F25+F30+F35+F40+F45+F50+F55+F60+F65+F70 -> 1231401 | G76: =+G10+G15+G20+G25+G30+G35+G40+G45+G50+G55+G60+G65+G70 -> 1276407 | H76: =(+F76-G76)/G76 -> -0.035259913 | I76: =K76/C76 -> 70.180203 | J76: =K76/F76 -> 139.15667 | K76: =+K10+K15+K20+K25+K30+K35+K40+K45+K50+K55+K60+K65+K70 -> 1.7135767e+08 | L76: =+L10+L15+L20+L25+L30+L35+L40+L45+L50+L55+L60+L65+L70 -> 1.7748322e+08 | M76: =(+K76-L76)/L76 -> -0.03451343
A78: NOTE: 1) The figures in this report are subject to adjustment.

Sheet YTD TAXES
A1: MISSOURI GAMING COMMISSION
A2: FISCAL YTD ADMISSION FEES & GAMING TAX BY LICENSED OPERATOR
A3: FOR THE MONTH ENDED: AUGUST 31, 2026
A5: ADMISSIONS FEES
O6: STATE
A7: MONTH | B7: ARGOSY | C7: IOC - BOONVILLE | D7: CENTURY-CARUTHERSVILLE | E7: HOLLYWOOD | F7: HARRAHS KC | G7: CENTURY - CAPE | H7: BALLY'S KC | I7: HORSESHOE STL | J7: AMERISTAR KC | K7: RIVER CITY | L7: MARK TWAIN | M7: AMERISTAR SC | N7: ST. JO | O7: TOTAL
A10: =DATE(2026,7,1) -> 46204 | B10: ='MONTHLY STATS'!$C$9*2 -> 378252 | C10: ='MONTHLY STATS'!$C$14*2 -> 208710 | D10: ='MONTHLY STATS'!$C$19*2 -> 152918 | E10: ='MONTHLY STATS'!$C$24*2 -> 663886 | F10: ='MONTHLY STATS'!$C$29*2 -> 355824 | G10: ='MONTHLY STATS'!$C$34*2 -> 193458 | H10: ='MONTHLY STATS'!$C$39*2 -> 397602 | I10: ='MONTHLY STATS'!$C$44*2 -> 456100 | J10: ='MONTHLY STATS'!$C$49*2 -> 529076 | K10: ='MONTHLY STATS'!$C$54*2 -> 675074 | L10: ='MONTHLY STATS'!$C$59*2 -> 87476 | M10: ='MONTHLY STATS'!$C$64*2 -> 674402 | N10: ='MONTHLY STATS'!$C$69*2 -> 122974 | O10: =SUM(B10:N10) -> 4895752
A11: =DATE(2026,8,1) -> 46235 | B11: ='MONTHLY STATS'!$C$10*2 -> 378126 | C11: ='MONTHLY STATS'!$C$15*2 -> 214922 | D11: ='MONTHLY STATS'!$C$20*2 -> 146614 | E11: ='MONTHLY STATS'!$C$25*2 -> 668904 | F11: ='MONTHLY STATS'!$C$30*2 -> 355834 | G11: ='MONTHLY STATS'!$C$35*2 -> 190232 | H11: ='MONTHLY STATS'!$C$40*2 -> 413064 | I11: ='MONTHLY STATS'!$C$45*2 -> 424354 | J11: ='MONTHLY STATS'!$C$50*2 -> 538932 | K11: ='MONTHLY STATS'!$C$55*2 -> 679970 | L11: ='MONTHLY STATS'!$C$60*2 -> 88084 | M11: ='MONTHLY STATS'!$C$65*2 -> 660832 | N11: ='MONTHLY STATS'!$C$70*2 -> 123494 | O11: =SUM(B11:N11) -> 4883362
A23: TOTALS | B23: =SUM(B10:B21) -> 756378 | C23: =SUM(C10:C21) -> 423632 | D23: =SUM(D10:D21) -> 299532 | E23: =SUM(E10:E21) -> 1332790 | F23: =SUM(F10:F21) -> 711658 | G23: =SUM(G10:G21) -> 383690 | H23: =SUM(H10:H21) -> 810666 | I23: =SUM(I10:I21) -> 880454 | ... O23: =SUM(O10:O21) -> 9779114
A26: GAMING TAX
O27: STATE
A28: MONTH | B28: ARGOSY | C28: IOC - BOONVILLE | D28: CENTURY-CARUTHERSVILLE | E28: HOLLYWOOD | F28: HARRAHS KC | G28: CENTURY - CAPE | H28: BALLY'S KC | I28: HORSESHOE STL | J28: AMERISTAR KC | K28: RIVER CITY | L28: MARK TWAIN | M28: AMERISTAR SC | N28: ST. JO | O28: TOTAL
A31: =DATE(2026,7,1) -> 46204 | B31: ='MONTHLY STATS'!$K$9*0.21 -> 3050403.3 | C31: ='MONTHLY STATS'!$K$14*0.21 -> 1771587.9 | D31: ='MONTHLY STATS'!$K$19*0.21 -> 1127643.8 | E31: ='MONTHLY STATS'!$K$24*0.21 -> 4883536.6 | F31: ='MONTHLY STATS'!$K$29*0.21 -> 3274090.2 | G31: ='MONTHLY STATS'!$K$34*0.21 -> 1302821 | H31: ='MONTHLY STATS'!$K$39*0.21 -> 2292213.2 | I31: ='MONTHLY STATS'!$K$44*0.21 -> 3070525.7 | J31: ='MONTHLY STATS'!$K$49*0.21 -> 3925818.2 | K31: ='MONTHLY STATS'!$K$54*0.21 -> 5122090.3 | L31: ='MONTHLY STATS'!$K$59*0.21 -> 695513.74 | M31: ='MONTHLY STATS'!$K$64*0.21 -> 5692439.7 | N31: ='MONTHLY STATS'!$K$69*0.21 -> 916729.25 | O31: =SUM(B31:N31) -> 37125413
A32: =DATE(2026,8,1) -> 46235 | B32: ='MONTHLY STATS'!$K$10*0.21 -> 3010408.9 | C32: ='MONTHLY STATS'!$K$15*0.21 -> 1772827.7 | D32: ='MONTHLY STATS'!$K$20*0.21 -> 1086538.1 | E32: ='MONTHLY STATS'!$K$25*0.21 -> 4658275.4 | F32: ='MONTHLY STATS'!$K$30*0.21 -> 3138792.5 | G32: ='MONTHLY STATS'!$K$35*0.21 -> 1277238.2 | H32: ='MONTHLY STATS'!$K$40*0.21 -> 2246118 | I32: ='MONTHLY STATS'!$K$45*0.21 -> 2947523.9 | J32: ='MONTHLY STATS'!$K$50*0.21 -> 3753611.6 | K32: ='MONTHLY STATS'!$K$55*0.21 -> 4941923.8 | L32: ='MONTHLY STATS'!$K$60*0.21 -> 675740.57 | M32: ='MONTHLY STATS'!$K$65*0.21 -> 5584983.8 | N32: ='MONTHLY STATS'!$K$70*0.21 -> 891127.97 | O32: =SUM(B32:N32) -> 35985110
A44: TOTALS | B44: =SUM(B31:B42) -> 6060812.2 | C44: =SUM(C31:C42) -> 3544415.6 | D44: =SUM(D31:D42) -> 2214181.8 | E44: =SUM(E31:E42) -> 9541812 | F44: =SUM(F31:F42) -> 6412882.7 | G44: =SUM(G31:G42) -> 2580059.2 | H44: =SUM(H31:H42) -> 4538331.2 | I44: =SUM(I31:I42) -> 6018049.6 | ... O44: =SUM(O31:O42) -> 73110523
A48: NOTE: THE FIGURES IN THIS REPORT ARE SUBJECT TO ADJUSTMENT

Sheet TABLE STATS
A1: MISSOURI GAMING COMMISSION
A2: TABLE GAMES - FISCAL YTD ANALYSIS OF HOLD % BY BOAT
A3: THRU MONTH ENDED: AUGUST 31, 2026
A4: (as reported on the tax remittal database as of 9/9/26)
G5: CURR YR
B6: CURR | C6: CURR YEAR | D6: CURR YEAR | E6: PRIOR YR | G6: ACTUAL
A7: BOAT | B7: YEAR | C7: TABLE DROP | D7: TABLE WIN | E7: TABLE WIN | F7: % CHG | G7: HOLD %
A9: ARGOSY RIVERSIDE | B9: =DATE(2026,7,1) -> 46204 | C9: 12590346 | D9: 2198034.5 | E9: 2471172.5 | F9: =(+D9-E9)/E9 -> -0.11052972 | G9: =D9/C9 -> 0.17458094
B10: =DATE(2026,8,1) -> 46235 | C10: 12257645 | D10: 1972563 | E10: 2783309 | F10: =(+D10-E10)/E10 -> -0.29128853 | G10: =D10/C10 -> 0.16092512
A12: TOTALS: | C12: =SUM(C9:C11) -> 24847991 | D12: =SUM(D9:D11) -> 4170597.5 | E12: =SUM(E9:E11) -> 5254481.5 | F12: =(+D12-E12)/E12 -> -0.20627801 | G12: =D12/C12 -> 0.16784445
A14: IOC - BOONVILLE | B14: =DATE(2026,7,1) -> 46204 | C14: 2788592 | D14: 769610.5 | E14: 660688.5 | F14: =(+D14-E14)/E14 -> 0.16486135 | G14: =D14/C14 -> 0.27598534
B15: =DATE(2026,8,1) -> 46235 | C15: 2898901 | D15: 590083 | E15: 701335 | F15: =(+D15-E15)/E15 -> -0.1586289 | G15: =D15/C15 -> 0.20355404
A17: TOTALS: | C17: =SUM(C14:C16) -> 5687493 | D17: =SUM(D14:D16) -> 1359693.5 | E17: =SUM(E14:E16) -> 1362023.5 | F17: =(+D17-E17)/E17 -> -0.00171069 | G17: =D17/C17 -> 0.23906728
A19: CENTURY-CARUTHERSVILLE | B19: =DATE(2026,7,1) -> 46204 | C19: 1354098 | D19: 316248.5 | E19: 348272 | F19: =(+D19-E19)/E19 -> -0.091949683 | G19: =D19/C19 -> 0.2335492
B20: =DATE(2026,8,1) -> 46235 | C20: 1365513 | D20: 306058.5 | E20: 338220.5 | F20: =(+D20-E20)/E20 -> -0.095091811 | G20: =D20/C20 -> 0.22413445
A22: TOTALS: | C22: =SUM(C19:C21) -> 2719611 | D22: =SUM(D19:D21) -> 622307 | E22: =SUM(E19:E21) -> 686492.5 | F22: =(+D22-E22)/E22 -> -0.093497744 | G22: =D22/C22 -> 0.22882206
A24: HOLLYWOOD | B24: =DATE(2026,7,1) -> 46204 | C24: 14698810 | D24: 3300017.5 | E24: 2993259 | F24: =(+D24-E24)/E24 -> 0.10248311 | G24: =D24/C24 -> 0.22450916
B25: =DATE(2026,8,1) -> 46235 | C25: 16700073 | D25: 2942065.2 | E25: 4103671.6 | F25: =(+D25-E25)/E25 -> -0.28306516 | G25: =D25/C25 -> 0.1761708
A27: TOTALS: | C27: =SUM(C24:C26) -> 31398883 | D27: =SUM(D24:D26) -> 6242082.7 | E27: =SUM(E24:E26) -> 7096930.7 | F27: =(+D27-E27)/E27 -> -0.12045319 | G27: =D27/C27 -> 0.19879951
A29: HARRAHS KC | B29: =DATE(2026,7,1) -> 46204 | C29: 14502332 | D29: 3714715.5 | E29: 3222320.5 | F29: =(+D29-E29)/E29 -> 0.15280758 | G29: =D29/C29 -> 0.25614608
B30: =DATE(2026,8,1) -> 46235 | C30: 13014766 | D30: 2715228 | E30: 3938155 | F30: =(+D30-E30)/E30 -> -0.31053298 | G30: =D30/C30 -> 0.20862672
A32: TOTALS: | C32: =SUM(C29:C31) -> 27517098 | D32: =SUM(D29:D31) -> 6429943.5 | E32: =SUM(E29:E31) -> 7160475.5 | F32: =(+D32-E32)/E32 -> -0.10202283 | G32: =D32/C32 -> 0.23367084
A34: CENTURY-CAPE | B34: =DATE(2026,7,1) -> 46204 | C34: 2886005.5 | D34: 660744 | E34: 734009.5 | F34: =(+D34-E34)/E34 -> -0.099815466 | G34: =D34/C34 -> 0.22894759
B35: =DATE(2026,8,1) -> 46235 | C35: 2735381 | D35: 742926.5 | E35: 626879.5 | F35: =(+D35-E35)/E35 -> 0.18511851 | G35: =D35/C35 -> 0.27159891
A37: TOTALS: | C37: =SUM(C34:C36) -> 5621386.5 | D37: =SUM(D34:D36) -> 1403670.5 | E37: =SUM(E34:E36) -> 1360889 | F37: =(+D37-E37)/E37 -> 0.031436436 | G37: =D37/C37 -> 0.24970183
A39: BALLY'S KANSAS CITY | B39: =DATE(2026,7,1) -> 46204 | C39: 3901922 | D39: 732344.5 | E39: 651030.5 | F39: =(+D39-E39)/E39 -> 0.12490045 | G39: =D39/C39 -> 0.18768814
B40: =DATE(2026,8,1) -> 46235 | C40: 3825290 | D40: 731712 | E40: 722686 | F40: =(+D40-E40)/E40 -> 0.012489518 | G40: =D40/C40 -> 0.19128275
A42: TOTALS: | C42: =SUM(C39:C41) -> 7727212 | D42: =SUM(D39:D41) -> 1464056.5 | E42: =SUM(E39:E41) -> 1373716.5 | F42: =(+D42-E42)/E42 -> 0.065763205 | G42: =D42/C42 -> 0.18946762
A44: HORSESHOE ST. LOUIS | B44: =DATE(2026,7,1) -> 46204 | C44: 8895447 | D44: 2022393.6 | E44: 1689752.8 | F44: =(+D44-E44)/E44 -> 0.19685764 | G44: =D44/C44 -> 0.22735154
B45: =DATE(2026,8,1) -> 46235 | C45: 8337593 | D45: 1935304.3 | E45: 2210201.5 | F45: =(+D45-E45)/E45 -> -0.12437653 | G45: =D45/C45 -> 0.23211786
A47: TOTALS: | C47: =SUM(C44:C46) -> 17233040 | D47: =SUM(D44:D46) -> 3957697.9 | E47: =SUM(E44:E46) -> 3899954.3 | F47: =(+D47-E47)/E47 -> 0.014806217 | G47: =D47/C47 -> 0.22965756
A49: AMERISTAR KC | B49: =DATE(2026,7,1) -> 46204 | C49: 15770087 | D49: 2566570.5 | E49: 2213338.5 | F49: =(+D49-E49)/E49 -> 0.1595924 | G49: =D49/C49 -> 0.16274929
B50: =DATE(2026,8,1) -> 46235 | C50: 17442050 | D50: 2510751.5 | E50: 1935718.5 | F50: =(+D50-E50)/E50 -> 0.29706437 | G50: =D50/C50 -> 0.14394819
A52: TOTALS: | C52: =SUM(C49:C51) -> 33212137 | D52: =SUM(D49:D51) -> 5077322 | E52: =SUM(E49:E51) -> 4149057 | F52: =(+D52-E52)/E52 -> 0.22372915 | G52: =D52/C52 -> 0.1528755
A54: RIVER CITY | B54: =DATE(2026,7,1) -> 46204 | C54: 12823721 | D54: 2541151.8 | E54: 2238507.4 | F54: =(+D54-E54)/E54 -> 0.13519923 | G54: =D54/C54 -> 0.19816025
B55: =DATE(2026,8,1) -> 46235 | C55: 13104055 | D55: 2827382.3 | E55: 3124514.4 | F55: =(+D55-E55)/E55 -> -0.095097031 | G55: =D55/C55 -> 0.21576392
A57: TOTALS: | C57: =SUM(C54:C56) -> 25927776 | D57: =SUM(D54:D56) -> 5368534.2 | E57: =SUM(E54:E56) -> 5363021.7 | F57: =(+D57-E57)/E57 -> 0.001027859 | G57: =D57/C57 -> 0.20705726
A59: MARK TWAIN | B59: =DATE(2026,7,1) -> 46204 | C59: 0 | D59: 0 | E59: 0 | F59: 0 | G59: 0
B60: =DATE(2026,8,1) -> 46235 | C60: 0 | D60: 0 | E60: 0 | F60: 0 | G60: 0
A62: TOTALS: | C62: =SUM(C59:C61) -> 0 | D62: =SUM(D59:D61) -> 0 | E62: =SUM(E59:E61) -> 0 | F62: 0 | G62: 0
A64: AMERISTAR SC | B64: =DATE(2026,7,1) -> 46204 | C64: 24388199 | D64: 4318431.5 | E64: 4388523.9 | F64: =(+D64-E64)/E64 -> -0.015971742 | G64: =D64/C64 -> 0.17707054
B65: =DATE(2026,8,1) -> 46235 | C65: 27411625 | D65: 3751130 | E65: 4972073.6 | F65: =(+D65-E65)/E65 -> -0.24556024 | G65: =D65/C65 -> 0.1368445
A67: TOTALS: | C67: =SUM(C64:C66) -> 51799824 | D67: =SUM(D64:D66) -> 8069561.5 | E67: =SUM(E64:E66) -> 9360597.4 | F67: =(+D67-E67)/E67 -> -0.13792239 | G67: =D67/C67 -> 0.15578357
A69: ST. JO FRONTIER | B69: =DATE(2026,7,1) -> 46204 | C69: 345933 | D69: 97342.5 | E69: 176713.5 | F69: =(+D69-E69)/E69 -> -0.44915074 | G69: =D69/C69 -> 0.28139119
B70: =DATE(2026,8,1) -> 46235 | C70: 406697 | D70: 115887 | E70: 225401 | F70: =(+D70-E70)/E70 -> -0.48586297 | G70: =D70/C70 -> 0.28494678
A72: TOTALS: | C72: =SUM(C69:C71) -> 752630 | D72: =SUM(D69:D71) -> 213229.5 | E72: =SUM(E69:E71) -> 402114.5 | F72: =(+D72-E72)/E72 -> -0.46972939 | G72: =D72/C72 -> 0.28331252
A74: STATE TOTALS FISCAL YTD: | C74: =C72+C67+C52+C42+C32+C22+C12+C27+C62+C17+C47+C57+C37 -> 2.3444508e+08 | D74: =D72+D67+D52+D42+D32+D22+D12+D27+D62+D17+D47+D57+D37 -> 44378696 | E74: =E72+E67+E52+E42+E32+E22+E12+E27+E62+E17+E47+E57+E37 -> 47469754 | F74: =(+D74-E74)/E74 -> -0.065116367 | G74: =D74/C74 -> 0.1892925
A76: STATE TOTALS CURR MONTH: | C76: =+C10+C15+C20+C25+C30+C35+C40+C45+C50+C55+C60+C65+C70 -> 1.1949959e+08 | D76: =+D10+D15+D20+D25+D30+D35+D40+D45+D50+D55+D60+D65+D70 -> 21141091 | E76: =+E10+E15+E20+E25+E30+E35+E40+E45+E50+E55+E60+E65+E70 -> 25682166 | F76: =(+D76-E76)/E76 -> -0.1768182 | G76: =D76/C76 -> 0.17691351
A78: NOTE: The figures in this report are subject to adjustment.

Sheet HYBRID STATS
A1: MISSOURI GAMING COMMISSION
A2: HYBRID TABLES
A3: FISCAL YTD ANALYSIS OF HOLD & PAYOUT % BY BOAT
A4: THRU MONTH ENDED: AUGUST 31, 2026
A5: (as reported on the tax remittal database dtd 9/9/26)
G6: CURRENT YEAR
B7: CURR | C7: HYBRID | D7: CURR YEAR | E7: PRIOR YR | G7: ACTUAL | H7: ACTUAL
A8: BOAT | B8: YEAR | C8: HANDLE | D8: HYBRID WIN | E8: HYBRID WIN | F8: % CHG | G8: HOLD % | H8: PAYOUT %
A10: ARGOSY RIVERSIDE | B10: =DATE(26,7,1) -> 9679 | C10: 0 | D10: 0 | E10: 0 | F10: 0 | G10: 0 | H10: 0
B11: =DATE(26,8,1) -> 9710 | C11: 0 | D11: 0 | E11: 0 | F11: 0 | G11: 0 | H11: 0
A13: TOTALS: | C13: =SUM(C10:C12) -> 0 | D13: =SUM(D10:D12) -> 0 | E13: =SUM(E10:E12) -> 0 | F13: 0 | G13: 0 | H13: 0
A15: IOC - BOONVILLE | B15: =DATE(26,7,1) -> 9679 | C15: 0 | D15: 0 | E15: 0 | F15: 0 | G15: 0 | H15: 0
B16: =DATE(26,8,1) -> 9710 | C16: 0 | D16: 0 | E16: 0 | F16: 0 | G16: 0 | H16: 0
A18: TOTALS: | C18: =SUM(C15:C17) -> 0 | D18: =SUM(D15:D17) -> 0 | E18: =SUM(E15:E17) -> 0 | F18: 0 | G18: 0 | H18: 0
A20: CENTURY-CARUTHERSVILLE | B20: =DATE(26,7,1) -> 9679 | C20: 0 | D20: 0 | E20: 0 | F20: 0 | G20: 0 | H20: 0
B21: =DATE(26,8,1) -> 9710 | C21: 0 | D21: 0 | E21: 0 | F21: 0 | G21: 0 | H21: 0
A23: TOTALS: | C23: =SUM(C20:C22) -> 0 | D23: =SUM(D20:D22) -> 0 | E23: =SUM(E20:E22) -> 0 | F23: 0 | G23: 0 | H23: 0
A25: HOLLYWOOD | B25: =DATE(26,7,1) -> 9679 | C25: 0 | D25: 0 | E25: 0 | F25: 0 | G25: 0 | H25: 0
B26: =DATE(26,8,1) -> 9710 | C26: 0 | D26: 0 | E26: 0 | F26: 0 | G26: 0 | H26: 0
A28: TOTALS: | C28: =SUM(C25:C27) -> 0 | D28: =SUM(D25:D27) -> 0 | E28: =SUM(E25:E27) -> 0 | F28: 0 | G28: 0 | H28: 0
A30: HARRAHS KC | B30: =DATE(26,7,1) -> 9679 | C30: 0 | D30: 0 | E30: 0 | F30: 0 | G30: 0 | H30: 0
B31: =DATE(26,8,1) -> 9710 | C31: 0 | D31: 0 | E31: 0 | F31: 0 | G31: 0 | H31: 0
A33: TOTALS: | C33: =SUM(C30:C32) -> 0 | D33: =SUM(D30:D32) -> 0 | E33: =SUM(E30:E32) -> 0 | F33: 0 | G33: 0 | H33: 0
A35: CENTURY-CAPE | B35: =DATE(26,7,1) -> 9679 | C35: 0 | D35: 0 | E35: 0 | F35: 0 | G35: 0 | H35: 0
B36: =DATE(26,8,1) -> 9710 | C36: 0 | D36: 0 | E36: 0 | F36: 0 | G36: 0 | H36: 0
A38: TOTALS: | C38: =SUM(C35:C37) -> 0 | D38: =SUM(D35:D37) -> 0 | E38: =SUM(E35:E37) -> 0 | F38: 0 | G38: 0 | H38: 0
A40: BALLY'S KANSAS CITY | B40: =DATE(26,7,1) -> 9679 | C40: 0 | D40: 0 | E40: 0 | F40: 0 | G40: 0 | H40: 0
B41: =DATE(26,8,1) -> 9710 | C41: 0 | D41: 0 | E41: 0 | F41: 0 | G41: 0 | H41: 0
A43: TOTALS: | C43: =SUM(C40:C42) -> 0 | D43: =SUM(D40:D42) -> 0 | E43: =SUM(E40:E42) -> 0 | F43: 0 | G43: 0 | H43: 0
A45: HORSESHOE ST. LOUIS | B45: =DATE(26,7,1) -> 9679 | C45: 0 | D45: 0 | E45: 0 | F45: 0 | G45: 0 | H45: 0
B46: =DATE(26,8,1) -> 9710 | C46: 0 | D46: 0 | E46: 0 | F46: 0 | G46: 0 | H46: 0
A48: TOTALS: | C48: =SUM(C45:C47) -> 0 | D48: =SUM(D45:D47) -> 0 | E48: =SUM(E45:E47) -> 0 | F48: 0 | G48: 0 | H48: 0
A50: AMERISTAR KC | B50: =DATE(26,7,1) -> 9679 | C50: 0 | D50: 0 | E50: 0 | F50: 0 | G50: 0 | H50: 0
B51: =DATE(26,8,1) -> 9710 | C51: 0 | D51: 0 | E51: 0 | F51: 0 | G51: 0 | H51: 0
A53: TOTALS: | C53: =SUM(C50:C52) -> 0 | D53: =SUM(D50:D52) -> 0 | E53: =SUM(E50:E52) -> 0 | F53: 0 | G53: 0 | H53: 0
A55: RIVER CITY | B55: =DATE(26,7,1) -> 9679 | C55: 0 | D55: 0 | E55: 0 | F55: 0 | G55: 0 | H55: 0
B56: =DATE(26,8,1) -> 9710 | C56: 0 | D56: 0 | E56: 0 | F56: 0 | G56: 0 | H56: 0
A58: TOTALS: | C58: =SUM(C55:C57) -> 0 | D58: =SUM(D55:D57) -> 0 | E58: =SUM(E55:E57) -> 0 | F58: 0 | G58: 0 | H58: 0
A60: MARK TWAIN | B60: =DATE(26,7,1) -> 9679 | C60: 0 | D60: 0 | E60: 0 | F60: 0 | G60: 0 | H60: 0
B61: =DATE(26,8,1) -> 9710 | C61: 0 | D61: 0 | E61: 0 | F61: 0 | G61: 0 | H61: 0
A63: TOTALS: | C63: =SUM(C60:C62) -> 0 | D63: =SUM(D60:D62) -> 0 | E63: =SUM(E60:E62) -> 0 | F63: 0 | G63: 0 | H63: 0
A65: AMERISTAR SC | B65: =DATE(26,7,1) -> 9679 | C65: 0 | D65: 0 | E65: 0 | F65: 0 | G65: 0 | H65: 0
B66: =DATE(26,8,1) -> 9710 | C66: 0 | D66: 0 | E66: 0 | F66: 0 | G66: 0 | H66: 0
A68: TOTALS: | C68: =SUM(C65:C67) -> 0 | D68: =SUM(D65:D67) -> 0 | E68: =SUM(E65:E67) -> 0 | F68: 0 | G68: 0 | H68: 0
A70: ST. JO FRONTIER | B70: =DATE(26,7,1) -> 9679 | C70: 4120.5 | D70: 553.4 | E70: 40772.98 | F70: =+(D70-E70)/E70 -> -0.98642729 | G70: =+D70/C70 -> 0.13430409 | H70: =1-G70 -> 0.86569591
B71: =DATE(26,8,1) -> 9710 | C71: 0 | D71: 0 | E71: 30682.93 | F71: =+(D71-E71)/E71 -> -1 | G71: 0 | H71: 0
A73: TOTALS: | C73: =SUM(C70:C72) -> 4120.5 | D73: =SUM(D70:D72) -> 553.4 | E73: =SUM(E70:E72) -> 71455.91 | F73: =+(D73-E73)/E73 -> -0.99225536 | G73: =+D73/C73 -> 0.13430409 | H73: =1-G73 -> 0.86569591
A75: STATE TOTALS FISCAL YTD: | C75: =C73+C68+C53+C43+C33+C23+C13+C28+C63+C18+C48+C58+C38 -> 4120.5 | D75: =D73+D68+D53+D43+D33+D23+D13+D28+D63+D18+D48+D58+D38 -> 553.4 | E75: =E73+E68+E53+E43+E33+E23+E13+E28+E63+E18+E48+E58+E38 -> 71455.91 | F75: =+(D75-E75)/E75 -> -0.99225536 | G75: =D75/C75 -> 0.13430409 | H75: =1-G75 -> 0.86569591
A77: STATE TOTALS CURR MONTH: | C77: =+C11+C16+C21+C26+C31+C36+C41+C46+C51+C56+C61+C66+C71 -> 0 | D77: =+D11+D16+D21+D26+D31+D36+D41+D46+D51+D56+D61+D66+D71 -> 0 | E77: =+E11+E16+E21+E26+E31+E36+E41+E46+E51+E56+E61+E66+E71 -> 30682.93 | F77: =+(D77-E77)/E77 -> -1 | G77: 0 | H77: 0
A79: NOTE: The figures in this report are subject to adjustment.

Sheet SLOT STATS
A1: MISSOURI GAMING COMMISSION
A2: ELECTRONIC GAMING DEVICES
A3: FISCAL YTD ANALYSIS OF HOLD & PAYOUT % BY BOAT
A4: THRU MONTH ENDED: AUGUST 31, 2026
A5: (as reported on the tax remittal database dtd 9/9/26)
G6: CURRENT YEAR
B7: CURR | C7: SLOT | D7: CURR YEAR | E7: PRIOR YR | G7: ACTUAL | H7: ACTUAL
A8: BOAT | B8: YEAR | C8: HANDLE | D8: SLOT WIN | E8: SLOT WIN | F8: % CHG | G8: HOLD % | H8: PAYOUT %
A10: ARGOSY RIVERSIDE | B10: =DATE(26,7,1) -> 9679 | C10: 1.2674754e+08 | D10: 12327695 | E10: 11189125 | F10: =(+D10-E10)/E10 -> 0.10175691 | G10: =D10/C10 -> 0.097261812 | H10: =1-G10 -> 0.90273819
B11: =DATE(26,8,1) -> 9710 | C11: 1.2917235e+08 | D11: 12362718 | E11: 12025916 | F11: =(+D11-E11)/E11 -> 0.028006361 | G11: =D11/C11 -> 0.095707152 | H11: =1-G11 -> 0.90429285
A13: TOTALS: | C13: =SUM(C10:C12) -> 2.5591989e+08 | D13: =SUM(D10:D12) -> 24690413 | E13: =SUM(E10:E12) -> 23215040 | F13: =(+D13-E13)/E13 -> 0.06355246 | G13: =D13/C13 -> 0.096477117 | H13: =1-G13 -> 0.90352288
A15: IOC - BOONVILLE | B15: =DATE(26,7,1) -> 9679 | C15: 81874310 | D15: 7666522.1 | E15: 7699908.8 | F15: =(+D15-E15)/E15 -> -0.0043359851 | G15: =D15/C15 -> 0.093637701 | H15: =1-G15 -> 0.9063623
B16: =DATE(26,8,1) -> 9710 | C16: 79881531 | D16: 7851953.9 | E16: 7656381.7 | F16: =(+D16-E16)/E16 -> 0.025543682 | G16: =D16/C16 -> 0.098294985 | H16: =1-G16 -> 0.90170501
A18: TOTALS: | C18: =SUM(C15:C17) -> 1.6175584e+08 | D18: =SUM(D15:D17) -> 15518476 | E18: =SUM(E15:E17) -> 15356290 | F18: =(+D18-E18)/E18 -> 0.010561502 | G18: =D18/C18 -> 0.095937655 | H18: =1-G18 -> 0.90406235
A20: CENTURY-CARUTHERSVILLE | B20: =DATE(26,7,1) -> 9679 | C20: 48510227 | D20: 5053483.7 | E20: 4754649.8 | F20: =(+D20-E20)/E20 -> 0.062850869 | G20: =D20/C20 -> 0.10417357 | H20: =1-G20 -> 0.89582643
B21: =DATE(26,8,1) -> 9710 | C21: 46989592 | D21: 4867932.3 | E21: 5030748 | F21: =(+D21-E21)/E21 -> -0.032364108 | G21: =D21/C21 -> 0.10359597 | H21: =1-G21 -> 0.89640403
A23: TOTALS: | C23: =SUM(C20:C22) -> 95499819 | D23: =SUM(D20:D22) -> 9921416 | E23: =SUM(E20:E22) -> 9785397.8 | F23: =(+D23-E23)/E23 -> 0.01390012 | G23: =D23/C23 -> 0.10388937 | H23: =1-G23 -> 0.89611063
A25: HOLLYWOOD | B25: =DATE(26,7,1) -> 9679 | C25: 2.0838914e+08 | D25: 19954919 | E25: 19065951 | F25: =(+D25-E25)/E25 -> 0.046625929 | G25: =D25/C25 -> 0.09575796 | H25: =1-G25 -> 0.90424204
B26: =DATE(26,8,1) -> 9710 | C26: 2.0494198e+08 | D26: 19240199 | E26: 19625710 | F26: =(+D26-E26)/E26 -> -0.019643183 | G26: =D26/C26 -> 0.0938812 | H26: =1-G26 -> 0.9061188
A28: TOTALS: | C28: =SUM(C25:C27) -> 4.1333112e+08 | D28: =SUM(D25:D27) -> 39195117 | E28: =SUM(E25:E27) -> 38691661 | F28: =(+D28-E28)/E28 -> 0.01301201 | G28: =D28/C28 -> 0.094827406 | H28: =1-G28 -> 0.90517259
A30: HARRAHS KC | B30: =DATE(26,7,1) -> 9679 | C30: 1.2617026e+08 | D30: 11876190 | E30: 11284269 | F30: =(+D30-E30)/E30 -> 0.052455427 | G30: =D30/C30 -> 0.094128286 | H30: =1-G30 -> 0.90587171
B31: =DATE(26,8,1) -> 9710 | C31: 1.2503904e+08 | D31: 12231403 | E31: 12207537 | F31: =(+D31-E31)/E31 -> 0.0019549865 | G31: =D31/C31 -> 0.097820671 | H31: =1-G31 -> 0.90217933
A33: TOTALS: | C33: =SUM(C30:C32) -> 2.512093e+08 | D33: =SUM(D30:D32) -> 24107593 | E33: =SUM(E30:E32) -> 23491806 | F33: =(+D33-E33)/E33 -> 0.02621283 | G33: =D33/C33 -> 0.095966165 | H33: =1-G33 -> 0.90403383
A35: CENTURY-CAPE | B35: =DATE(26,7,1) -> 9679 | C35: 51652558 | D35: 5543165.6 | E35: 5133575.2 | F35: =(+D35-E35)/E35 -> 0.079786584 | G35: =D35/C35 -> 0.10731638 | H35: =1-G35 -> 0.89268362
B36: =DATE(26,8,1) -> 9710 | C36: 51909932 | D36: 5339159.9 | E36: 5461912.5 | F36: =(+D36-E36)/E36 -> -0.02247428 | G36: =D36/C36 -> 0.1028543 | H36: =1-G36 -> 0.8971457
A38: TOTALS: | C38: =SUM(C35:C37) -> 1.0356249e+08 | D38: =SUM(D35:D37) -> 10882326 | E38: =SUM(E35:E37) -> 10595488 | F38: =(+D38-E38)/E38 -> 0.027071702 | G38: =D38/C38 -> 0.1050798 | H38: =1-G38 -> 0.8949202
A40: BALLY'S KANSAS CITY | B40: =DATE(26,7,1) -> 9679 | C40: 94201778 | D40: 10182957 | E40: 10415439 | F40: =(+D40-E40)/E40 -> -0.022320921 | G40: =D40/C40 -> 0.10809729 | H40: =1-G40 -> 0.89190271
B41: =DATE(26,8,1) -> 9710 | C41: 94036542 | D41: 9964087.9 | E41: 10567775 | F41: =(+D41-E41)/E41 -> -0.057125256 | G41: =D41/C41 -> 0.10595974 | H41: =1-G41 -> 0.89404026
A43: TOTALS: | C43: =SUM(C40:C42) -> 1.8823832e+08 | D43: =SUM(D40:D42) -> 20147045 | E43: =SUM(E40:E42) -> 20983214 | F43: =(+D43-E43)/E43 -> -0.039849426 | G43: =D43/C43 -> 0.10702945 | H43: =1-G43 -> 0.89297055
A45: HORSESHOE ST. LOUIS | B45: =DATE(26,7,1) -> 9679 | C45: 1.2180748e+08 | D45: 12599157 | E45: 12769443 | F45: =(+D45-E45)/E45 -> -0.013335382 | G45: =D45/C45 -> 0.103435 | H45: =1-G45 -> 0.896565
B46: =DATE(26,8,1) -> 9710 | C46: 1.1759738e+08 | D46: 12100524 | E46: 13134764 | F46: =(+D46-E46)/E46 -> -0.078740668 | G46: =D46/C46 -> 0.1028979 | H46: =1-G46 -> 0.8971021
A48: TOTALS: | C48: =SUM(C45:C47) -> 2.3940486e+08 | D48: =SUM(D45:D47) -> 24699681 | E48: =SUM(E45:E47) -> 25904207 | F48: =(+D48-E48)/E48 -> -0.046499223 | G48: =D48/C48 -> 0.10317118 | H48: =1-G48 -> 0.89682882
A50: AMERISTAR KC | B50: =DATE(26,7,1) -> 9679 | C50: 1.6944877e+08 | D50: 16127802 | E50: 15262290 | F50: =(+D50-E50)/E50 -> 0.056709218 | G50: =D50/C50 -> 0.095178044 | H50: =1-G50 -> 0.90482196
B51: =DATE(26,8,1) -> 9710 | C51: 1.6398808e+08 | D51: 15363589 | E51: 15853868 | F51: =(+D51-E51)/E51 -> -0.03092487 | G51: =D51/C51 -> 0.093687232 | H51: =1-G51 -> 0.90631277
A53: TOTALS: | C53: =SUM(C50:C52) -> 3.3343685e+08 | D53: =SUM(D50:D52) -> 31491391 | E53: =SUM(E50:E52) -> 31116158 | F53: =(+D53-E53)/E53 -> 0.012059127 | G53: =D53/C53 -> 0.094444845 | H53: =1-G53 -> 0.90555515
A55: RIVER CITY | B55: =DATE(26,7,1) -> 9679 | C55: 2.1803883e+08 | D55: 21849754 | E55: 20027858 | F55: =(+D55-E55)/E55 -> 0.090968088 | G55: =D55/C55 -> 0.10021038 | H55: =1-G55 -> 0.89978962
B56: =DATE(26,8,1) -> 9710 | C56: 2.1124918e+08 | D56: 20705588 | E56: 20920696 | F56: =(+D56-E56)/E56 -> -0.010282059 | G56: =D56/C56 -> 0.098014998 | H56: =1-G56 -> 0.901985
A58: TOTALS: | C58: =SUM(C55:C57) -> 4.2928801e+08 | D58: =SUM(D55:D57) -> 42555342 | E58: =SUM(E55:E57) -> 40948554 | F58: =(+D58-E58)/E58 -> 0.039239191 | G58: =D58/C58 -> 0.099130051 | H58: =1-G58 -> 0.90086995
A60: MARK TWAIN | B60: =DATE(26,7,1) -> 9679 | C60: 29555904 | D60: 3311970.2 | E60: 2945968.8 | F60: =(+D60-E60)/E60 -> 0.12423804 | G60: =D60/C60 -> 0.11205782 | H60: =1-G60 -> 0.88794218
B61: =DATE(26,8,1) -> 9710 | C61: 30054892 | D61: 3217812.2 | E61: 3020485.7 | F61: =(+D61-E61)/E61 -> 0.065329404 | G61: =D61/C61 -> 0.10706451 | H61: =1-G61 -> 0.89293549
A63: TOTALS: | C63: =SUM(C60:C62) -> 59610796 | D63: =SUM(D60:D62) -> 6529782.4 | E63: =SUM(E60:E62) -> 5966454.5 | F63: =(+D63-E63)/E63 -> 0.09441586 | G63: =D63/C63 -> 0.10954027 | H63: =1-G63 -> 0.89045973
A65: AMERISTAR SC | B65: =DATE(26,7,1) -> 9679 | C65: 2.5330295e+08 | D65: 22788424 | E65: 21223682 | F65: =(+D65-E65)/E65 -> 0.073726218 | G65: =D65/C65 -> 0.089965097 | H65: =1-G65 -> 0.9100349
B66: =DATE(26,8,1) -> 9710 | C66: 2.4828566e+08 | D66: 22844031 | E66: 22321398 | F66: =(+D66-E66)/E66 -> 0.023413981 | G66: =D66/C66 -> 0.092007049 | H66: =1-G66 -> 0.90799295
A68: TOTALS: | C68: =SUM(C65:C67) -> 5.0158861e+08 | D68: =SUM(D65:D67) -> 45632455 | E68: =SUM(E65:E67) -> 43545080 | F68: =(+D68-E68)/E68 -> 0.047935946 | G68: =D68/C68 -> 0.09097586 | H68: =1-G68 -> 0.90902414
A70: ST. JO FRONTIER | B70: =DATE(26,7,1) -> 9679 | C70: 39714812 | D70: 4267481.5 | E70: 4106639.2 | F70: =(+D70-E70)/E70 -> 0.039166414 | G70: =D70/C70 -> 0.10745315 | H70: =1-G70 -> 0.89254685
B71: =DATE(26,8,1) -> 9710 | C71: 39565759 | D71: 4127579.5 | E71: 3943183.1 | F71: =(+D71-E71)/E71 -> 0.046763339 | G71: =D71/C71 -> 0.10432201 | H71: =1-G71 -> 0.89567799
A73: TOTALS: | C73: =SUM(C70:C72) -> 79280572 | D73: =SUM(D70:D72) -> 8395061 | E73: =SUM(E70:E72) -> 8049822.3 | F73: =(+D73-E73)/E73 -> 0.042887747 | G73: =D73/C73 -> 0.10589052 | H73: =1-G73 -> 0.89410948
A75: STATE TOTALS FISCAL YTD: | C75: =C73+C68+C53+C43+C33+C23+C13+C28+C63+C18+C48+C58+C38 -> 3.1121265e+09 | D75: =D73+D68+D53+D43+D33+D23+D13+D28+D63+D18+D48+D58+D38 -> 3.037661e+08 | E75: =E73+E68+E53+E43+E33+E23+E13+E28+E63+E18+E48+E58+E38 -> 2.9764917e+08 | F75: =(+D75-E75)/E75 -> 0.020550792 | G75: =D75/C75 -> 0.097607248 | H75: =1-G75 -> 0.90239275
A77: STATE TOTALS CURR MONTH: | C77: =+C11+C16+C21+C26+C31+C36+C41+C46+C51+C56+C61+C66+C71 -> 1.5427119e+09 | D77: =+D11+D16+D21+D26+D31+D36+D41+D46+D51+D56+D61+D66+D71 -> 1.5021658e+08 | E77: =+E11+E16+E21+E26+E31+E36+E41+E46+E51+E56+E61+E66+E71 -> 1.5177037e+08 | F77: =(+D77-E77)/E77 -> -0.010237819 | G77: =D77/C77 -> 0.097371762 | H77: =1-G77 -> 0.90262824
A79: NOTE: The figures in this report are subject to adjustment.
