Workbook

Sheet ARG
A1: MISSOURI GAMING COMMISSION
A2: DETAIL GAMING STATS - PUBLIC REPORT
A3: MONTH ENDED: JUNE 2026
D5: BOAT: ARGOSY RIVERSIDE
A6: TABLE GAMES:
E7: TABLE | F7: TABLE | G7: ACTUAL
D8: UNITS | E8: DROP | F8: AGR | G8: HOLD %
A9: Blackjack 6 TO 5 | D9: 8 | E9: 1428242 | F9: 425182.5 | G9: 0.2976964
A10: Double Deck Blackjack | D10: 5 | E10: 1479283 | F10: 320901.5 | G10: 0.21693043
A11: Three Card Progressive
A12: Mississippi Stud | D12: 1 | E12: 125202 | F12: 43064 | G12: 0.34395617
A13: Blackjack plus 3 | D13: 2 | E13: 130466 | F13: 13178 | G13: 0.10100716
A14: DJ Wild Poker
A15: Cajun Stud Poker
A16: Fortune 7 | D16: 2 | E16: 2196413 | F16: 456579 | G16: 0.20787484
A17: Mini Baccarat | D17: 4 | E17: 4493951 | F17: 1232381 | G17: 0.27423107
A18: Craps | D18: 1 | E18: 243065 | F18: 51233 | G18: 0.21077901
A19: Craps No More
A20: No Craps, Craps | D20: 1 | E20: 1185397.8 | F20: 94128.3 | G20: 0.079406508
A21: Dragon Bonus
A22: High Card Flush | D22: 1 | E22: 46824 | F22: 15148 | G22: 0.32350931
A23: 5 Treasures
A24: I Luv Suits
A25: Roulette | D25: 2 | E25: 415997 | F25: 122258 | G25: 0.29389154
A26: Poker w/o bad beat
A27: Bad Beat Poker - house funded
A28: Bad Beat Poker - player funded
A29: Rising Phoenix MB
A30: Ultimate Texas Poker | D30: 2 | E30: 461062 | F30: 158114.5
A31: Pai Gow Poker | D31: 2 | E31: 254598 | F31: 74637 | G31: 0.29315627
A32: Face Up Pai Gow
A33: Big Blind UTH
A34: EZ Baccarat
A35: Table Tournaments
A36: Other
A37: Rounding
A39: TOTAL TABLE GAMES: | D39: 31 | E39: 12460501 | F39: 3006804.8 | G39: 0.2413069
A41: ELECTRONIC GAMING DEVICES:
E42: SLOT | F42: SLOT | G42: ACTUAL
D43: UNITS | E43: HANDLE | F43: AGR | G43: PAYOUT % (1)
A44: 5 cents | D44: 89 | E44: 13858876 | F44: 790533.35 | G44: 0.94295833
A45: 10 cents | D45: 15 | E45: 10472356 | F45: 591122.02 | G45: 0.94355406
A46: 25 cents | D46: 38 | E46: 2131386.8 | F46: 217507.44 | G46: 0.89795027
A47: 50 cents
A48: $1.00 | D48: 104 | E48: 11566467 | F48: 749163.22 | G48: 0.93522973
A49: $2.00 | D49: 8 | E49: 966027 | F49: 81531.5 | G49: 0.91560122
A50: $5.00 | D50: 13 | E50: 939500.75 | F50: 56330.25 | G50: 0.94004236
A51: $10.00
A52: $25.00 | D52: 2 | E52: 137100 | F52: 36925 | G52: 0.73067104
A53: $100.00
A54: 1 cent | D54: 787 | E54: 79849955 | F54: 8696450.7 | G54: 0.8910901
A55: 2 cents
A56: Wide Area Progressive
A57: Other
A58: Rounding
A60: TOTAL SLOTS:
D61: 1056 | E61: 1.1992167e+08 | F61: 11219563 | G61: 0.90644257
A62: TOTAL AGR FOR MONTH:
F63: 14226368
A65: (1) The above payout percentages for slots represent the actual payout for a one month period only.
A66: The 80% minimum payout per Section 313.805(12) RSMO is not limited to any one month period
A67: and is calculated based on standard probability and statistical theory.
A69: NOTE: THE FIGURES IN THIS REPORT ARE SUBJECT TO ADJUSTMENT

Sheet CARUTHERSVILLE
A1: MISSOURI GAMING COMMISSION
A2: DETAIL GAMING STATS - PUBLIC REPORT
A3: =ARG!$A$3 -> MONTH ENDED: JUNE 2026
D5: BOAT: CENTURY CARUTHERSVILLE
A6: TABLE GAMES:
E7: TABLE | F7: TABLE | G7: ACTUAL
D8: UNITS | E8: DROP | F8: AGR | G8: HOLD %
A9: Blackjack
A10: BJ 6 to 5
A11: Double Deck Blackjack
A12: Face Up Blackjack
A13: Cajun Stud
A14: Texas Shootout
A15: Criss Cross
A16: Fortune 7
A17: Caribbean Stud
A18: Craps | D18: 1 | E18: 203497 | F18: 65432 | G18: =F18/E18 -> 0.32153791
A19: Craps No More
A20: No Craps, Craps
A21: DJ Wild
A22: EZ Bacarrat
A23: Run Em Twice
A24: Pai Gow Poker
A25: Roulette
A26: Poker w/o bad beat
A27: Bad Beat Poker - house funded
A28: Bad Beat Poker - player funded
A29: Three Card Poker/Stud
A30: Mississippi Stud | D30: 2 | E30: 324540 | F30: 111743.5 | G30: =F30/E30 -> 0.34431349
A31: BJ 21 +3
A32: Trilux | D32: 3 | E32: 490511 | F32: 140136 | G32: =F32/E32 -> 0.2856939
A33: 5 Treasures
A34: Ultimate Texas Hold'em | D34: 1 | E34: 50612 | F34: 22935 | G34: =F34/E34 -> 0.4531534
A35: Table Tournaments
A36: Other
A37: Rounding
A39: TOTAL TABLE GAMES: | D39: =SUM(D9:D38) -> 7 | E39: =SUM(E9:E38) -> 1069160 | F39: =SUM(F9:F38) -> 340246.5 | G39: =F39/E39 -> 0.31823721
A41: ELECTRONIC GAMING DEVICES:
E42: SLOT | F42: SLOT | G42: ACTUAL
D43: UNITS | E43: HANDLE | F43: AGR | G43: PAYOUT % (1)
A44: 5 cents | D44: 13 | E44: 736402.14 | F44: 87772.61 | G44: =1-(+F44/E44) -> 0.88080886
A45: 10 cents
A46: 25 cents | D46: 36 | E46: 2126405.2 | F46: 211776.9 | G46: =1-(+F46/E46) -> 0.90040614
A47: 50 cents | D47: 15 | E47: 2602795.2 | F47: 160982.71 | G47: =1-(+F47/E47) -> 0.93815007
A48: $1.00 | D48: 37 | E48: 2641179 | F48: 236464 | G48: =1-(+F48/E48) -> 0.91047029
A49: $2.00
A50: $5.00 | D50: 6 | E50: 856115 | F50: 108225 | G50: =1-(+F50/E50) -> 0.87358591
A51: $10.00
A52: $25.00
A53: 1 cent | D53: 464 | E53: 36176736 | F53: 3911972.3 | G53: =1-(+F53/E53) -> 0.89186497
A54: 2 cents | D54: 6 | E54: 145198.13 | F54: 12326.1 | G54: =1-(+F54/E54) -> 0.91510841
A55: Slot Tournaments
A56: Wide Area Progressive
A57: Other
A58: Rounding
A60: TOTAL SLOTS: | D60: =SUM(D44:D56) -> 577 | E60: =SUM(E44:E59) -> 45284831 | F60: =SUM(F44:F59) -> 4729519.6 | G60: =1-(F60/E60) -> 0.89556062
A62: TOTAL AGR FOR MONTH: | F62: =F60+F39 -> 5069766.1
A64: (1) The above payout percentages for slots represent the actual payout for a one month period only.
A65: The 80% minimum payout per Section 313.805(12) RSMO is not limited to any one month period
A66: and is calculated based on standard probability and statistical theory.
A68: NOTE: THE FIGURES IN THIS REPORT ARE SUBJECT TO ADJUSTMENT

Sheet HOLLYWOOD
A1: MISSOURI GAMING COMMISSION
A2: DETAIL GAMING STATS - PUBLIC REPORT
A3: =ARG!$A$3 -> MONTH ENDED: JUNE 2026
D5: BOAT: HOLLYWOOD
A6: TABLE GAMES:
E7: TABLE | F7: TABLE | G7: ACTUAL
D8: UNITS | E8: DROP | F8: AGR | G8: HOLD %
A9: Double Deck 21 Plus 3 | D9: 4 | E9: 1338197 | F9: 53158 | G9: =F9/E9 -> 0.039723598
A10: Double Deck Blackjack
A11: Blackjack 6 to 5 | D11: 10 | E11: 1184286 | F11: 398836.5 | G11: =F11/E11 -> 0.3367738
A12: EZ Pai Gow
A13: Heads Up Hold Em | D13: 2 | E13: 791068 | F13: 329716 | G13: =F13/E13 -> 0.41679856
A14: Mississippi Stud
A15: DJ Wild
A16: Blackjack
A17: Craps | D17: 2 | E17: 224196 | F17: 49199 | G17: =F17/E17 -> 0.21944638
A18: Craps No More | D18: 2 | E18: 1248942 | F18: 639635 | G18: =F18/E18 -> 0.51214148
A19: Ultimate Texas Hold'Em
A20: Eternal Bacarrat | D20: 1 | E20: 1238321 | F20: 86615.5 | G20: =F20/E20 -> 0.069945919
A21: Midi Bacarrat | D21: 6 | E21: 5773237 | F21: 1148229.5 | G21: =F21/E21 -> 0.19888834
A22: EZ Bacarrat | D22: 2 | E22: 718131 | F22: 194963 | G22: =F22/E22 -> 0.27148668
A23: Roulette | D23: 4 | E23: 732629 | F23: 113728 | G23: =F23/E23 -> 0.15523273
A24: Poker w/o bad beat | D24: 14 | E24: 223225 | F24: 223225 | G24: =F24/E24 -> 1
A25: Bad Beat Poker - house funded
A26: Bad Beat Poker - player funded | E26: 58228 | F26: 5078 | G26: =F26/E26 -> 0.087208903
A27: Four Card Frenzy
A28: Three Card Poker/Stud | D28: 1 | E28: 222728 | F28: 108812.7 | G28: =F28/E28 -> 0.48854522
A29: Cajun Poker | D29: 1 | E29: 74246 | F29: 27357 | G29: =F29/E29 -> 0.36846429
A30: DD Madness
A31: I LUV Suits
A32: 21 Plus 3 | D32: 8 | E32: 1993322 | F32: 198946 | G32: =F32/E32 -> 0.099806253
A33: Face Up Pai Gow | D33: 1 | E33: 240561 | F33: 94217 | G33: =F33/E33 -> 0.39165534
A34: High Card Flush | D34: 1 | E34: 392106 | F34: 59139 | G34: =F34/E34 -> 0.15082401
A35: Table Tournaments | E35: 438930 | F35: 72394
A36: Other
A37: Rounding
A39: TOTAL TABLE GAMES: | D39: =SUM(D9:D38) -> 59 | E39: =SUM(E9:E38) -> 16892353 | F39: =SUM(F9:F38) -> 3803249.2 | G39: =F39/E39 -> 0.22514621
A41: ELECTRONIC GAMING DEVICES:
E42: SLOT | F42: SLOT | G42: ACTUAL
D43: UNITS | E43: HANDLE | F43: AGR | G43: PAYOUT % (1)
A44: 5 cents | D44: 191 | E44: 34969762 | F44: 1968378.9 | G44: =1-(+F44/E44) -> 0.94371197
A45: 10 cents | D45: 16 | E45: 6439819.8 | F45: 357317.17 | G45: =1-(+F45/E45) -> 0.94451441
A46: 25 cents | D46: 188 | E46: 14888549 | F46: 842744.29 | G46: =1-(+F46/E46) -> 0.94339648
A47: 50 cents | D47: 1 | E47: 114723.5 | F47: 23946 | G47: =1-(+F47/E47) -> 0.79127206
A48: $1.00 | D48: 117 | E48: 13551800 | F48: 810832.13 | G48: =1-(+F48/E48) -> 0.94016794
A49: $2.00 | D49: 2 | E49: 71912 | F49: 9255 | G49: =1-(+F49/E49) -> 0.87130103
A50: $5.00 | D50: 18 | E50: 1492970 | F50: 64199.9 | G50: =1-(+F50/E50) -> 0.95699853
A51: $10.00
A52: $25.00 | D52: 4 | E52: 408675 | F52: 11000 | G52: =1-(+F52/E52) -> 0.97308375
A53: $100.00 | D53: 2 | E53: 84300 | F53: -2100 | G53: =1-(+F53/E53) -> 1.024911
A54: 1 cent | D54: 1199 | E54: 1.2409367e+08 | F54: 13899819 | G54: =1-(+F54/E54) -> 0.8879893
A55: 2 cents | D55: 6 | E55: 450867.51 | F55: 45423.99 | G55: =1-(+F55/E55) -> 0.89925202
A56: Multi Denom
A57: Slot Tournaments
A58: Wide Area Progressive
A59: Other
A60: Rounding
A62: TOTAL SLOTS: | D62: =SUM(D44:D58) -> 1744 | E62: =SUM(E44:E61) -> 1.9656705e+08 | F62: =SUM(F44:F61) -> 18030817 | G62: =1-(+F62/E62) -> 0.90827142
A64: TOTAL AGR FOR MONTH: | F64: =F62+F39 -> 21834066
A66: (1) The above payout percentages for slots represent the actual payout for a one month period only.
A67: The 80% minimum payout per Section 313.805(12) RSMO is not limited to any one month period
A68: and is calculated based on standard probability and statistical theory.
A70: NOTE: THE FIGURES IN THIS REPORT ARE SUBJECT TO ADJUSTMENT

Sheet HARKC
A1: MISSOURI GAMING COMMISSION
A2: DETAIL GAMING STATS - PUBLIC REPORT
A3: =ARG!$A$3 -> MONTH ENDED: JUNE 2026
D5: BOAT: HARRAHS KANSAS CITY
A6: TABLE GAMES:
E7: TABLE | F7: TABLE | G7: ACTUAL
D8: UNITS | E8: DROP | F8: AGR | G8: HOLD %
A9: Double Deck 21 Plus 3
A10: Double Deck Blackjack | D10: 8 | E10: 1975810 | F10: 420004.5 | G10: =F10/E10 -> 0.21257332
A11: Blackjack 6 to 5 | D11: 8 | E11: 834125 | F11: 185637.5 | G11: =F11/E11 -> 0.22255357
A12: EZ Pai Gow
A13: Heads Up Hold Em
A14: Mississippi Stud | D14: 1 | E14: 349257 | F14: 132443 | G14: =F14/E14 -> 0.37921359
A15: DJ Wild | D15: 1 | E15: 158910 | F15: 69588 | G15: =F15/E15 -> 0.43790825
A16: Blackjack | D16: 2 | E16: 263174 | F16: 3614.5 | G16: =F16/E16 -> 0.013734259
A17: Craps | D17: 2 | E17: 378197 | F17: 20741 | G17: =F17/E17 -> 0.054841789
A18: Craps No More | D18: 2 | E18: 1281151 | F18: 571920 | G18: =F18/E18 -> 0.44641108
A19: Ultimate Texas Hold'Em | D19: 2 | E19: 491096 | F19: 178020.5 | G19: =F19/E19 -> 0.36249633
A20: Eternal Bacarrat
A21: Midi Bacarrat | D21: 6 | E21: 4660747 | F21: 719768 | G21: =F21/E21 -> 0.1544319
A22: EZ Bacarrat | D22: 2 | E22: 361688 | F22: 129167.5 | G22: =F22/E22 -> 0.3571241
A23: Roulette | D23: 4 | E23: 700688 | F23: 218112.5 | G23: =F23/E23 -> 0.31128334
A24: Poker w/o bad beat | D24: 13 | E24: 179456 | F24: 178501 | G24: =F24/E24 -> 0.99467836
A25: Bad Beat Poker - house funded
A26: Bad Beat Poker - player funded | E26: 35428 | F26: 18368 | G26: =F26/E26 -> 0.51845998
A27: Four Card Frenzy
A28: Three Card Poker/Stud | D28: 1 | E28: 107645 | F28: -4603 | G28: =F28/E28 -> -0.042760927
A29: Cajun Poker
A30: DD Madness | D30: 2 | E30: 458552 | F30: 155408 | G30: =F30/E30 -> 0.33891031
A31: I LUV Suits | D31: 1 | E31: 220714 | F31: 79996 | G31: =F31/E31 -> 0.36244189
A32: 21 Plus 3
A33: Face Up Pai Gow | D33: 2 | E33: 287885 | F33: 81430 | G33: =F33/E33 -> 0.282856
A34: High Card Flush
A35: Table Tournaments | E35: 12250 | F35: 2450
A36: Other
A37: Rounding
A39: TOTAL TABLE GAMES: | D39: =SUM(D9:D38) -> 57 | E39: =SUM(E9:E38) -> 12756773 | F39: =SUM(F9:F38) -> 3160567 | G39: =F39/E39 -> 0.247756
A41: ELECTRONIC GAMING DEVICES:
E42: SLOT | F42: SLOT | G42: ACTUAL
D43: UNITS | E43: HANDLE | F43: AGR | G43: PAYOUT % (1)
A44: 5 cents | D44: 43 | E44: 3711602.8 | F44: 253818.79 | G44: =1-(+F44/E44) -> 0.93161477
A45: 10 cents | D45: 21 | E45: 5212660.5 | F45: 604360.6 | G45: =1-(+F45/E45) -> 0.88405909
A46: 25 cents | D46: 93 | E46: 5934068 | F46: 452590.86 | G46: =1-(+F46/E46) -> 0.92373009
A47: 50 cents
A48: $1.00 | D48: 62 | E48: 7081226 | F48: 588444.87 | G48: =1-(+F48/E48) -> 0.91690071
A49: $2.00 | D49: 2 | E49: 1260821 | F49: 105430 | G49: =1-(+F49/E49) -> 0.91637988
A50: $5.00 | D50: 7 | E50: 691940 | F50: 112895 | G50: =1-(+F50/E50) -> 0.83684279
A51: $10.00
A52: $25.00
A53: $100.00 | D53: 1 | E53: 104600 | F53: -1400 | G53: =1-(+F53/E53) -> 1.0133843
A54: 1 cent | D54: 444 | E54: 34144384 | F54: 3362393.8 | G54: =1-(+F54/E54) -> 0.90152425
A55: 2 cents
A56: Multi Denom | D56: 367 | E56: 53521255 | F56: 5268720.2 | G56: =1-(+F56/E56) -> 0.90155836
A57: Slot Tournaments
A58: Wide Area Progressive
A59: Other
A60: Rounding
A62: TOTAL SLOTS: | D62: =SUM(D44:D58) -> 1040 | E62: =SUM(E44:E61) -> 1.1166256e+08 | F62: =SUM(F44:F61) -> 10747254 | G62: =1-(F62/E62) -> 0.90375239
A64: TOTAL AGR FOR MONTH: | F64: =F62+F39 -> 13907821
A66: (1) The above payout percentages for slots represent the actual payout for a one month period only.
A67: The 80% minimum payout per Section 313.805(12) RSMO is not limited to any one month period
A68: and is calculated based on standard probability and statistical theory.
A70: NOTE: THE FIGURES IN THIS REPORT ARE SUBJECT TO ADJUSTMENT

Sheet BALLYSKC
A1: MISSOURI GAMING COMMISSION
A2: DETAIL GAMING STATS - PUBLIC REPORT
A3: =ARG!$A$3 -> MONTH ENDED: JUNE 2026
D5: BOAT: BALLY'S KC
A6: TABLE GAMES:
E7: TABLE | F7: TABLE | G7: ACTUAL
D8: UNITS | E8: DROP | F8: AGR | G8: HOLD %
A9: Fortune 7
A10: Double Deck Blackjack | D10: 5 | E10: 423025 | F10: 86486 | G10: =F10/E10 -> 0.20444655
A11: Double Deck 21 Plus 3
A12: Ultimate Texas Hold 'Em | D12: 1 | E12: 157418 | F12: 43088.5 | G12: =F12/E12 -> 0.27372029
A13: 3 Card Poker
A14: 5 Treasures Baccarat | D14: 4 | E14: 1274507 | F14: 102485.5 | G14: =F14/E14 -> 0.080411877
A15: Mississippi Stud
A16: Texas Ultimate
A17: EZ Baccarat
A18: Craps | D18: 1 | E18: 465460 | F18: 27902.5 | G18: =F18/E18 -> 0.059946075
A19: Craps No More
A20: DJ Wild
A21: Face Up Pai Gow
A22: Trilux EZ
A23: Trilux Blackjack | D23: 8 | E23: 1049576 | F23: 238937 | G23: =F23/E23 -> 0.22765098
A24: Golden Frog Baccarat | D24: 1 | E24: 74356 | F24: 7782 | G24: =F24/E24 -> 0.10465867
A25: Roulette | D25: 2 | E25: 189045 | F25: 53430 | G25: =F25/E25 -> 0.28263112
A26: Poker w/o bad beat
A27: Bad Beat Poker - player funded
A28: Rising Phoenix
A29: I Luv Suits
A30: Double Deck Madness
A31: Double Deck EZ
A32: Texas Shootout
A33: Run Em Twice
A34: Commission Free
A35: Table Tournaments
A36: Other
A37: Rounding
A39: TOTAL TABLE GAMES: | D39: =SUM(D9:D38) -> 22 | E39: =SUM(E9:E38) -> 3633387 | F39: =SUM(F9:F38) -> 560111.5 | G39: =F39/E39 -> 0.15415685
A41: ELECTRONIC GAMING DEVICES:
E42: SLOT | F42: SLOT | G42: ACTUAL
D43: UNITS | E43: HANDLE | F43: AGR | G43: PAYOUT % (1)
A44: 5 cents | D44: 3 | E44: 203984 | F44: 19232.23 | G44: =1-(+F44/E44) -> 0.90571697
A45: 10 cents
A46: 25 cents | D46: 20 | E46: 1199724.2 | F46: 129975.68 | G46: =1-(+F46/E46) -> 0.89166204
A47: 50 cents | D47: 7 | E47: 1838146 | F47: 117767.77
A48: $1.00 | D48: 25 | E48: 3136589.1 | F48: 199934.24 | G48: =1-(+F48/E48) -> 0.93625743
A49: $2.00
A50: $5.00 | D50: 5 | E50: 112255 | F50: 8060 | G50: =1-(+F50/E50) -> 0.92819919
A51: $10.00
A52: $25.00
A53: $100.00
A54: 1 cent | D54: 382 | E54: 22063394 | F54: 2542215.4 | G54: =1-(+F54/E54) -> 0.88477678
A55: 2 cents
A56: Multi Denom | D56: 424 | E56: 57004957 | F56: 6255226.8 | G56: =1-(+F56/E56) -> 0.89026872
A57: Slot Tournaments
A58: Wide Area Progressive
A59: Other
A60: Rounding
A62: TOTAL SLOTS: | D62: =SUM(D44:D58) -> 866 | E62: =SUM(E44:E61) -> 85559049 | F62: =SUM(F44:F61) -> 9272412.1 | G62: =1-(+F62/E62) -> 0.89162558
A64: TOTAL AGR FOR MONTH: | F64: =F62+F39 -> 9832523.6
A66: (1) The above payout percentages for slots represent the actual payout for a one month period only.
A67: The 80% minimum payout per Section 313.805(12) RSMO is not limited to any one month period
A68: and is calculated based on standard probability and statistical theory.
A70: NOTE: THE FIGURES IN THIS REPORT ARE SUBJECT TO ADJUSTMENT

Sheet AMERKC
A1: MISSOURI GAMING COMMISSION
A2: DETAIL GAMING STATS - PUBLIC REPORT
A3: =ARG!$A$3 -> MONTH ENDED: JUNE 2026
D5: BOAT: AMERISTAR KC
A6: TABLE GAMES:
E7: TABLE | F7: TABLE | G7: ACTUAL
D8: UNITS | E8: DROP | F8: AGR | G8: HOLD %
A9: Fortune 7
A10: Double Deck Blackjack
A11: Double Deck 21 Plus 3 | D11: 2 | E11: 566133 | F11: 107016.5 | G11: =F11/E11 -> 0.18903067
A12: Ultimate Texas Hold 'Em
A13: 3 Card Poker | D13: 1 | E13: 29876 | F13: 8355 | G13: =F13/E13 -> 0.27965591
A14: 5 Treasures Baccarat | D14: 4 | E14: 8097720 | F14: 962853.5 | G14: =F14/E14 -> 0.11890427
A15: Mississippi Stud | D15: 1 | E15: 11710 | F15: 4805 | G15: =F15/E15 -> 0.41033305
A16: Texas Ultimate | D16: 2 | E16: 190477 | F16: 84937.5 | G16: =F16/E16 -> 0.44591998
A17: EZ Baccarat
A18: Craps | D18: 2 | E18: 121667 | F18: 25286 | G18: =F18/E18 -> 0.20782957
A19: Craps No More | D19: 2 | E19: 1188153 | F19: 99825 | G19: =F19/E19 -> 0.084016957
A20: DJ Wild | D20: 1 | E20: 20415 | F20: 4135 | G20: =F20/E20 -> 0.20254715
A21: Face Up Pai Gow | D21: 1 | E21: 47430 | F21: 7255.5 | G21: =F21/E21 -> 0.1529728
A22: Trilux EZ | D22: 13 | E22: 1593228 | F22: 364036 | G22: =F22/E22 -> 0.22848958
A23: Trilux Blackjack
A24: Golden Frog Baccarat
A25: Roulette | D25: 4 | E25: 908484 | F25: 129109 | G25: =F25/E25 -> 0.14211478
A26: Poker w/o bad beat
A27: Bad Beat Poker - player funded
A28: Rising Phoenix
A29: I Luv Suits | D29: 1 | E29: 25185 | F29: -5750 | G29: =F29/E29 -> -0.2283105
A30: Double Deck Madness | D30: 1 | E30: 172176 | F30: 47766.5
A31: Double Deck EZ | D31: 2 | E31: 653282 | F31: 134012 | G31: =F31/E31 -> 0.20513653
A32: Texas Shootout | D32: 1 | E32: 148113 | F32: 46358 | G32: =F32/E32 -> 0.31299076
A33: Run Em Twice | D33: 3 | E33: 371296 | F33: 36319 | G33: =F33/E33 -> 0.097816836
A34: Commission Free | D34: 2 | E34: 1245364 | F34: 128188 | G34: =F34/E34 -> 0.10293215
A35: Table Tournaments
A36: Other
A37: Rounding
A39: TOTAL TABLE GAMES: | D39: =SUM(D9:D38) -> 43 | E39: =SUM(E9:E38) -> 15390709 | F39: =SUM(F9:F38) -> 2184507.5 | G39: =F39/E39 -> 0.14193677
A41: ELECTRONIC GAMING DEVICES:
E42: SLOT | F42: SLOT | G42: ACTUAL
D43: UNITS | E43: HANDLE | F43: AGR | G43: PAYOUT % (1)
A44: 5 cents | D44: 109 | E44: 15149535 | F44: 934032.73 | G44: =1-(+F44/E44) -> 0.93834578
A45: 10 cents | D45: 17 | E45: 5879333.8 | F45: 373564.04 | G45: =1-(+F45/E45) -> 0.9364615
A46: 25 cents | D46: 89 | E46: 3994970 | F46: 285622.69 | G46: =1-(+F46/E46) -> 0.92850442
A47: 50 cents
A48: $1.00 | D48: 108 | E48: 18142223 | F48: 1120837.4 | G48: =1-(+F48/E48) -> 0.9382194
A49: $2.00
A50: $5.00 | D50: 13 | E50: 1168835 | F50: 64210 | G50: =1-(+F50/E50) -> 0.94506496
A51: $10.00 | D51: 1 | E51: 50250 | F51: 14040 | G51: =1-(+F51/E51) -> 0.72059701
A52: $25.00 | D52: 3 | E52: 63675 | F52: 19575 | G52: =1-(+F52/E52) -> 0.69257951
A53: $100.00 | D53: 1 | E53: 21200 | F53: -28500 | G53: =1-(+F53/E53) -> 2.3443396
A54: 1 cent | D54: 1179 | E54: 1.0953832e+08 | F54: 12343995 | G54: =1-(+F54/E54) -> 0.88730889
A55: 2 cents | D55: 21 | E55: 328912.63 | F55: 37904.94 | G55: =1-(+F55/E55) -> 0.88475681
A56: Multi Denom
A57: Slot Tournaments
A58: Wide Area Progressive
A59: Other
A60: Rounding
A62: TOTAL SLOTS: | D62: =SUM(D44:D58) -> 1541 | E62: =SUM(E44:E61) -> 1.5433726e+08 | F62: =SUM(F44:F61) -> 15165282 | G62: =1-(F62/E62) -> 0.90173933
A64: TOTAL AGR FOR MONTH: | F64: =F62+F39 -> 17349789
A66: (1) The above payout percentages for slots represent the actual payout for a one month period only.
A67: The 80% minimum payout per Section 313.805(12) RSMO is not limited to any one month period
A68: and is calculated based on standard probability and statistical theory.
A70: NOTE: THE FIGURES IN THIS REPORT ARE SUBJECT TO ADJUSTMENT

Sheet LAGRANGE
A1: MISSOURI GAMING COMMISSION
A2: DETAIL GAMING STATS - PUBLIC REPORT
A3: =ARG!$A$3 -> MONTH ENDED: JUNE 2026
D5: BOAT: MARK TWAIN
A6: TABLE GAMES:
E7: TABLE | F7: TABLE | G7: ACTUAL
D8: UNITS | E8: DROP | F8: AGR | G8: HOLD %
A9: Blackjack
A10: Double Deck Blackjack
A11: Sic Bo
A12: DD Madness
A13: Blackjack plus 3
A14: Double Deck Blackjack 21+3
A15: Blackjack Top 3
A16: Blackjack 6 to 5
A17: Bonus Craps
A18: Cajun Stud
A19: Craps
A20: Craps No More
... A37: Rounding
A39: TOTAL TABLE GAMES: | D39: =SUM(D9:D38) -> 0 | E39: =SUM(E9:E38) -> 0 | F39: =SUM(F9:F38) -> 0 | G39: 0
A41: ELECTRONIC GAMING DEVICES:
E42: SLOT | F42: SLOT | G42: ACTUAL
D43: UNITS | E43: HANDLE | F43: AGR | G43: PAYOUT % (1)
A44: 5 cents | D44: 5 | E44: 355478.1 | F44: 14083.55 | G44: =1-(+F44/E44) -> 0.96038138
A45: 10 cents
A46: 25 cents | D46: 4 | E46: 59043.25 | F46: 4478.75 | G46: =1-(+F46/E46) -> 0.92414459
A47: 50 cents | D47: 6 | E47: 506398 | F47: 95138.5 | G47: =1-(+F47/E47) -> 0.81212702
A48: $1.00 | D48: 8 | E48: 1169254.3 | F48: 77475.98 | G48: =1-(+F48/E48) -> 0.93373898
A49: $2.00
A50: $5.00 | D50: 5 | E50: 196045 | F50: 16420 | G50: =1-(+F50/E50) -> 0.91624372
A51: $10.00
A52: $25.00
A53: $100.00
A54: 1 cent | D54: 355 | E54: 26007410 | F54: 2951539.4 | G54: =1-(+F54/E54) -> 0.8865116
A55: 2 cents
A56: Slot Tournaments
A57: Wide Area Progressive
A58: Other
A59: Rounding
A61: TOTAL SLOTS: | D61: =SUM(D44:D57) -> 383 | E61: =SUM(E44:E60) -> 28293629 | F61: =SUM(F44:F60) -> 3159136.1 | G61: =1-(F61/E61) -> 0.88834461
A63: TOTAL AGR FOR MONTH: | F63: =F61+F39 -> 3159136.1
A65: (1) The above payout percentages for slots represent the actual payout for a one month period only.
A66: The 80% minimum payout per Section 313.805(12) RSMO is not limited to any one month period
A67: and is calculated based on standard probability and statistical theory.
A69: NOTE: THE FIGURES IN THIS REPORT ARE SUBJECT TO ADJUSTMENT

Sheet AMERSC
A1: MISSOURI GAMING COMMISSION
A2: DETAIL GAMING STATS - PUBLIC REPORT
A3: =ARG!$A$3 -> MONTH ENDED: JUNE 2026
D5: BOAT: ST. CHARLES
A6: TABLE GAMES:
E7: TABLE | F7: TABLE | G7: ACTUAL
D8: UNITS | E8: DROP | F8: AGR | G8: HOLD %
A9: Blackjack 6 TO 5
A10: Double Deck Blackjack | D10: 4 | E10: 1599617 | F10: 89609 | G10: =F10/E10 -> 0.056019035
A11: Three Card Progressive | D11: 1 | E11: 53300 | F11: 11781 | G11: =F11/E11 -> 0.22103189
A12: Mississippi Stud
A13: Blackjack plus 3 | D13: 17 | E13: 3773519 | F13: 726649.5 | G13: =F13/E13 -> 0.19256548
A14: DJ Wild Poker
A15: Cajun Stud Poker
A16: Fortune 7
A17: Mini Baccarat
A18: Craps | D18: 1 | E18: 1279419 | F18: 340888 | G18: =F18/E18 -> 0.26643969
A19: Craps No More | D19: 3 | E19: 2614827 | F19: 746375 | G19: =F19/E19 -> 0.28543953
A20: No Craps, Craps
A21: Dragon Bonus | D21: 3 | E21: 6314322 | F21: 827597.5 | G21: =F21/E21 -> 0.13106672
A22: High Card Flush
A23: 5 Treasures | D23: 1 | E23: 189915 | F23: 189752.5 | G23: =F23/E23 -> 0.99914435
A24: I Luv Suits | D24: 2 | E24: 447429 | F24: 145157 | G24: =F24/E24 -> 0.32442466
A25: Roulette | D25: 4 | E25: 1621146 | F25: 242044 | G25: =F25/E25 -> 0.14930426
A26: Poker w/o bad beat | D26: 17 | E26: 114487 | F26: 114487 | G26: =F26/E26 -> 1
A27: Bad Beat Poker - house funded
A28: Bad Beat Poker - player funded | E28: 58864 | F28: 15414 | G28: =F28/E28 -> 0.26185784
A29: Rising Phoenix MB | D29: 1 | E29: 1841851 | F29: 179895 | G29: =F29/E29 -> 0.097670767
A30: Ultimate Texas Poker
A31: Pai Gow Poker
A32: Face Up Pai Gow | D32: 2 | E32: 418483 | F32: 143500 | G32: =F32/E32 -> 0.34290521
A33: Big Blind UTH | D33: 2 | E33: 925714 | F33: 277978 | G33: =F33/E33 -> 0.30028497
A34: EZ Baccarat | D34: 3 | E34: 2888381 | F34: 464599 | G34: =F34/E34 -> 0.16085101
A35: Table Tournaments
A36: Other
A37: Rounding
A39: TOTAL TABLE GAMES: | D39: =SUM(D9:D38) -> 61 | E39: =SUM(E9:E38) -> 24141274 | F39: =SUM(F9:F38) -> 4515726.5 | G39: =F39/E39 -> 0.18705419
A41: ELECTRONIC GAMING DEVICES:
E42: SLOT | F42: SLOT | G42: ACTUAL
D43: UNITS | E43: HANDLE | F43: AGR | G43: PAYOUT % (1)
A44: 5 cents | D44: 107 | E44: 22849611 | F44: 1391464.9 | G44: =1-(+F44/E44) -> 0.93910334
A45: 10 cents | D45: 16 | E45: 8604488.7 | F45: 760150.2 | G45: =1-(+F45/E45) -> 0.91165655
A46: 25 cents | D46: 235 | E46: 17786070 | F46: 902268.27 | G46: =1-(+F46/E46) -> 0.94927107
A47: 50 cents | D47: 17 | E47: 1369548.5 | F47: 148790 | G47: =1-(+F47/E47) -> 0.89135836
A48: $1.00 | D48: 99 | E48: 15726951 | F48: 1178332.4 | G48: =1-(+F48/E48) -> 0.9250756
A49: $2.00
A50: $5.00 | D50: 43 | E50: 14272180 | F50: 819070.38 | G50: =1-(+F50/E50) -> 0.9426107
A51: $10.00 | D51: 3 | E51: 558310 | F51: 65960 | G51: =1-(+F51/E51) -> 0.88185775
A52: $25.00 | D52: 1 | E52: 189500 | F52: 22250 | G52: =1-(+F52/E52) -> 0.88258575
A53: $100.00 | D53: 1 | E53: 68900 | F53: 7200 | G53: =1-(+F53/E53) -> 0.89550073
A54: 1 cent | D54: 1228 | E54: 1.4981392e+08 | F54: 16382443 | G54: =1-(+F54/E54) -> 0.89064806
A55: 2 cents
A56: Slot Tournaments
A57: Wide Area Progressive
A58: Other
A59: Rounding
A61: TOTAL SLOTS: | D61: =SUM(D44:D57) -> 1750 | E61: =SUM(E44:E60) -> 2.3123948e+08 | F61: =SUM(F44:F60) -> 21677929 | G61: =1-(+F61/E61) -> 0.90625334
A63: TOTAL AGR FOR MONTH: | F63: =F61+F39 -> 26193656
A65: (1) The above payout percentages for slots represent the actual payout for a one month period only.
A66: The 80% minimum payout per Section 313.805(12) RSMO is not limited to any one month period
A67: and is calculated based on standard probability and statistical theory.
A69: NOTE: THE FIGURES IN THIS REPORT ARE SUBJECT TO ADJUSTMENT

Sheet RIVERCITY
A1: MISSOURI GAMING COMMISSION
A2: DETAIL GAMING STATS - PUBLIC REPORT
A3: =ARG!$A$3 -> MONTH ENDED: JUNE 2026
D5: BOAT: RIVER CITY
A6: TABLE GAMES:
E7: TABLE | F7: TABLE | G7: ACTUAL
D8: UNITS | E8: DROP | F8: AGR | G8: HOLD %
A9: Blackjack
A10: Double Deck Blackjack
A11: Sic Bo
A12: Mississippi Stud
A13: Blackjack plus 3 | D13: 12 | E13: 957522 | F13: 224440.5 | G13: =F13/E13 -> 0.23439723
A14: Double Deck Blackjack 21+3 | D14: 3 | E14: 723976 | F14: 158599.5 | G14: =F14/E14 -> 0.21906734
A15: Blackjack Top 3
A16: Blackjack 6 to 5 | D16: 6 | E16: 964416 | F16: 330954 | G16: =F16/E16 -> 0.34316519
A17: Bonus Craps | D17: 2 | E17: 286756 | F17: 111307 | G17: =F17/E17 -> 0.38815927
A18: Cajun Stud | D18: 2 | E18: 252992 | F18: 103114.21 | G18: =F18/E18 -> 0.40757894
A19: Craps
A20: Craps No More | D20: 2 | E20: 1170933 | F20: 4164 | G20: =F20/E20 -> 0.0035561386
A21: I LUV Suits
A22: Face Up Pai Gow | D22: 1 | E22: 69107 | F22: 13204 | G22: =F22/E22 -> 0.19106603
A23: Heads Up Hold'em | D23: 3 | E23: 772764 | F23: 171066 | G23: =F23/E23 -> 0.22136901
A24: Mini Bacarrat | D24: 2 | E24: 2127507 | F24: -16150.5 | G24: =F24/E24 -> -0.0075912794
A25: Roulette | D25: 4 | E25: 691180 | F25: 241976 | G25: =F25/E25 -> 0.35009115
A26: Poker w/o bad beat
A27: Bad Beat Poker - house funded
A28: Bad Beat Poker - player funded
A29: Three Card Poker/Stud | D29: 1 | E29: 50215 | F29: 2188 | G29: =F29/E29 -> 0.043572638
A30: Trilux
A31: Rising Phoenix | D31: 2 | E31: 1620681 | F31: 112877.5 | G31: =F31/E31 -> 0.069648191
A32: DJ Wild | D32: 1 | E32: 77161 | F32: 35552 | G32: =F32/E32 -> 0.4607509
A33: Ultimate Texas Hold'em
A34: EZ Baccarat | D34: 4 | E34: 3791629 | F34: 412869 | G34: =F34/E34 -> 0.10888961
A35: Table Tournaments
A36: Other | F36: 2700
A37: Rounding
A39: TOTAL TABLE GAMES: | D39: =SUM(D9:D38) -> 45 | E39: =SUM(E9:E38) -> 13556839 | F39: =SUM(F9:F38) -> 1908861.2 | G39: =F39/E39 -> 0.1408043
A41: ELECTRONIC GAMING DEVICES:
E42: SLOT | F42: SLOT | G42: ACTUAL
D43: UNITS | E43: HANDLE | F43: AGR | G43: PAYOUT % (1)
A44: 5 cents | D44: 142 | E44: 21854339 | F44: 1545023.8 | G44: =1-(+F44/E44) -> 0.92930357
A45: 10 cents | D45: 30 | E45: 9142185 | F45: 781423.72 | G45: =1-(+F45/E45) -> 0.9145255
A46: 25 cents | D46: 115 | E46: 7514986.8 | F46: 427134.59 | G46: =1-(+F46/E46) -> 0.9431623
A47: 50 cents | D47: 1 | E47: 29787 | F47: 4801.44 | G47: =1-(+F47/E47) -> 0.83880753
A48: $1.00 | D48: 80 | E48: 14725700 | F48: 1036078.6 | G48: =1-(+F48/E48) -> 0.92964147
A49: $2.00
A50: $5.00 | D50: 9 | E50: 1275980 | F50: -34536.2 | G50: =1-(+F50/E50) -> 1.0270664
A51: $10.00 | D51: 3 | E51: 206635 | F51: 18101.66 | G51: =1-(+F51/E51) -> 0.9123979
A52: $25.00 | D52: 2 | E52: 89350 | F52: 5431.7 | G52: =1-(+F52/E52) -> 0.93920873
A53: $100.00
A54: 1 cent | D54: 1300 | E54: 1.4825211e+08 | F54: 16342653 | G54: =1-(+F54/E54) -> 0.88976445
A55: 2 cents | D55: 2 | E55: 110632.83 | F55: -1405.54 | G55: =1-(+F55/E55) -> 1.0127045
A56: Slot Tournaments
A57: Wide Area Progressive
A58: Other
A59: Rounding
A61: TOTAL SLOTS: | D61: =SUM(D44:D57) -> 1684 | E61: =SUM(E44:E60) -> 2.032017e+08 | F61: =SUM(F44:F60) -> 20124706 | G61: =1-(+F61/E61) -> 0.90096192
A63: TOTAL AGR FOR MONTH: | F63: =F61+F27+F39 -> 22033568
A65: (1) The above payout percentages for slots represent the actual payout for a one month period only.
A66: The 80% minimum payout per Section 313.805(12) RSMO is not limited to any one month period
A67: and is calculated based on standard probability and statistical theory.
A69: NOTE: THE FIGURES IN THIS REPORT ARE SUBJECT TO ADJUSTMENT

Sheet HORSESHOE
A1: MISSOURI GAMING COMMISSION
A2: DETAIL GAMING STATS - PUBLIC REPORT
A3: =ARG!$A$3 -> MONTH ENDED: JUNE 2026
D5: BOAT: HORSESHOE ST. LOUIS
A6: TABLE GAMES:
E7: TABLE | F7: TABLE | G7: ACTUAL
D8: UNITS | E8: DROP | F8: AGR | G8: HOLD %
A9: Blackjack
A10: Double Deck Blackjack | D10: 3 | E10: =97035+1316103 -> 1413138 | F10: =59630+22377.5 -> 82007.5 | G10: =F10/E10 -> 0.058032195
A11: Sic Bo
A12: DD Madness | D12: 2 | E12: 560484 | F12: 28542.5 | G12: =F12/E12 -> 0.050924736
A13: Blackjack plus 3
A14: Double Deck Blackjack 21+3
A15: Blackjack Top 3 | D15: 6 | E15: 1704019 | F15: 360903.5 | G15: =F15/E15 -> 0.21179547
A16: Blackjack 6 to 5 | D16: 6 | E16: 660186 | F16: 185306 | G16: =F16/E16 -> 0.28068756
A17: Bonus Craps
A18: Cajun Stud
A19: Craps | D19: 1 | E19: 100073 | F19: -18832 | G19: =F19/E19 -> -0.18818263
A20: Craps No More | D20: 1 | E20: 1209045 | F20: 150721 | G20: =F20/E20 -> 0.1246612
A21: Four Card Poker
A22: High Card Flush
A23: Heads Up Hold'em
A24: Mini Bacarrat | D24: 1 | E24: 6734 | F24: 1266.5 | G24: =F24/E24 -> 0.18807544
A25: Roulette | D25: 3 | E25: 932751 | F25: 141617 | G25: =F25/E25 -> 0.15182723
A26: Poker w/o bad beat | D26: 8 | E26: 80666 | F26: 80666 | G26: =F26/E26 -> 1
A27: Bad Beat Poker - house funded
A28: Bad Beat Poker - player funded | E28: 14102 | F28: 1102 | G28: =F28/E28 -> 0.078144944
A29: Three Card Poker/Stud | D29: 1 | E29: 81111 | F29: 32934 | G29: =F29/E29 -> 0.40603617
A30: EZ Pai Gow
A31: Rising Phoenix
A32: DJ Wild
A33: Ultimate Texas Hold'em | D33: 1 | E33: 270222 | F33: 41820.5 | G33: =F33/E33 -> 0.15476349
A34: EZ Baccarat | D34: 6 | E34: 1393307 | F34: 169365 | G34: =F34/E34 -> 0.12155613
A35: Table Tournaments
A36: Other
A37: Rounding
A39: TOTAL TABLE GAMES: | D39: =SUM(D9:D38) -> 39 | E39: =SUM(E9:E38) -> 8425838 | F39: =SUM(F9:F38) -> 1257419.5 | G39: =F39/E39 -> 0.14923376
A41: ELECTRONIC GAMING DEVICES:
E42: SLOT | F42: SLOT | G42: ACTUAL
D43: UNITS | E43: HANDLE | F43: AGR | G43: PAYOUT % (1)
A44: 5 cents | D44: 73 | E44: 14140450 | F44: 843267.03 | G44: =1-(+F44/E44) -> 0.94036491
A45: 10 cents | D45: 6 | E45: 456935.05 | F45: 46193.81 | G45: =1-(+F45/E45) -> 0.89890509
A46: 25 cents | D46: 48 | E46: 3585281.5 | F46: 294114.08 | G46: =1-(+F46/E46) -> 0.91796625
A47: 50 cents | D47: 4 | E47: 508388.4 | F47: 13473.2 | G47: =1-(+F47/E47) -> 0.97349822
A48: $1.00 | D48: 37 | E48: 11159022 | F48: 866068.6 | G48: =1-(+F48/E48) -> 0.92238848
A49: $2.00 | D49: 2 | E49: 148087 | F49: 8946 | G49: =1-(+F49/E49) -> 0.93958957
A50: $5.00 | D50: 1 | E50: 134385 | F50: 17545 | G50: =1-(+F50/E50) -> 0.86944227
A51: $10.00
A52: $25.00 | D52: 2 | E52: 86700 | F52: 5475 | G52: =1-(+F52/E52) -> 0.93685121
A53: $100.00 | D53: 1 | E53: 37800 | F53: 19600 | G53: =1-(+F53/E53) -> 0.48148148
A54: 1 cent | D54: 723 | E54: 77712781 | F54: 8953181.6 | G54: =1-(+F54/E54) -> 0.88479139
A55: 2 cents | D55: 11 | E55: 402050.37 | F55: 29157.88 | G55: =1-(+F55/E55) -> 0.92747705
A56: Slot Tournaments
A57: Wide Area Progressive
A58: Other
A59: Rounding
A61: TOTAL SLOTS: | D61: =SUM(D43:D57) -> 908 | E61: =SUM(E43:E60) -> 1.0837188e+08 | F61: =SUM(F43:F60) -> 11097022 | G61: =1-(+F61/E61) -> 0.89760238
A62: TOTAL AGR FOR MONTH:
A63: (1) The above payout percentages for slots represent the actual payout for a one month period only. | F63: =+F61+F39 -> 12354442
A64: The 80% minimum payout per Section 313.805(12) RSMO is not limited to any one month period
A65: and is calculated based on standard probability and statistical theory.
A66: NOTE: THE FIGURES IN THIS REPORT ARE SUBJECT TO ADJUSTMENT

Sheet ISLEBV
A1: MISSOURI GAMING COMMISSION
A2: DETAIL GAMING STATS - PUBLIC REPORT
A3: =ARG!$A$3 -> MONTH ENDED: JUNE 2026
D5: BOAT: ISLE OF CAPRI - BOONVILLE
A6: TABLE GAMES:
E7: TABLE | F7: TABLE | G7: ACTUAL
D8: UNITS | E8: DROP | F8: AGR | G8: HOLD %
A9: Blackjack | D9: 7 | E9: 889297 | F9: 184937.5 | G9: =+F9/E9 -> 0.20795921
A10: BJ 6 to 5
A11: Double Deck Blackjack | D11: 2 | E11: 389704 | F11: 129652 | G11: =F11/E11 -> 0.33269353
A12: Face Up Blackjack
A13: Cajun Stud
A14: Texas Shootout
A15: Criss Cross
A16: Fortune 7
A17: Caribbean Stud
A18: Craps
A19: Craps No More | D19: 1 | E19: 404318 | F19: 56935 | G19: =F19/E19 -> 0.14081738
A20: No Craps, Craps
A21: DJ Wild
A22: EZ Bacarrat | D22: 1 | E22: 498385 | F22: 94196 | G22: =F22/E22 -> 0.18900248
A23: Run Em Twice | D23: 1 | E23: 207330 | F23: 77836 | G23: =F23/E23 -> 0.37542083
A24: Pai Gow Poker
A25: Roulette
A26: Poker w/o bad beat
A27: Bad Beat Poker - house funded
A28: Bad Beat Poker - player funded
A29: Three Card Poker/Stud | D29: 1 | E29: 30618 | F29: 13781 | G29: =F29/E29 -> 0.45009472
A30: Mississippi Stud | D30: 1 | E30: 190911 | F30: 53492 | G30: =F30/E30 -> 0.28019339
A31: BJ 21 +3
A32: Trilux
A33: 5 Treasures
A34: Ultimate Texas Hold'em | D34: 1 | E34: 164996 | F34: 72298.5 | G34: =+F34/E34 -> 0.43818335
A35: Table Tournaments
A36: Other
A37: Rounding
A39: TOTAL TABLE GAMES: | D39: =SUM(D9:D38) -> 15 | E39: =SUM(E9:E38) -> 2775559 | F39: =SUM(F9:F38) -> 683128 | G39: =F39/E39 -> 0.24612267
A41: ELECTRONIC GAMING DEVICES:
E42: SLOT | F42: SLOT | G42: ACTUAL
D43: UNITS | E43: HANDLE | F43: AGR | G43: PAYOUT % (1)
A44: 5 cents | D44: 24 | E44: 7351894.2 | F44: 600514 | G44: =1-(+F44/E44) -> 0.91831847
A45: 10 cents | D45: 3 | E45: 712361.11 | F45: 31329.98 | G45: =1-(+F45/E45) -> 0.95601952
A46: 25 cents | D46: 77 | E46: 5368621.5 | F46: 421637.9 | G46: =1-(+F46/E46) -> 0.92146254
A47: 50 cents | D47: 23 | E47: 3502229.3 | F47: 153530.38 | G47: =1-(+F47/E47) -> 0.9561621
A48: $1.00 | D48: 57 | E48: 3834441 | F48: 366788.65 | G48: =1-(+F48/E48) -> 0.90434364
A49: $2.00 | D49: 4 | E49: 1302989 | F49: 33434 | G49: =1-(+F49/E49) -> 0.97434054
A50: $5.00 | D50: 5 | E50: 389155 | F50: 36470 | G50: =1-(+F50/E50) -> 0.90628413
A51: $10.00
A52: $25.00 | D52: 1 | E52: 103075 | F52: -3200 | G52: =1-(+F52/E52) -> 1.0310454
A53: 1 cent | D53: 453 | E53: 50090014 | F53: 5528027.4 | G53: =1-(+F53/E53) -> 0.88963813
A54: 2 cents
A55: Slot Tournaments
A56: Wide Area Progressive
A57: Other
A58: Rounding
A60: TOTAL SLOTS: | D60: =SUM(D44:D56) -> 647 | E60: =SUM(E44:E59) -> 72654780 | F60: =SUM(F44:F59) -> 7168532.3 | G60: =1-(+F60/E60) -> 0.90133433
A62: TOTAL AGR FOR MONTH: | F62: =F60+F39 -> 7851660.3
A64: The 80% minimum payout per Section 313.805(12) RSMO is not limited to any one month period
A65: and is calculated based on standard probability and statistical theory.
A67: NOTE: THE FIGURES IN THIS REPORT ARE SUBJECT TO ADJUSTMENT

Sheet STJO
A1: MISSOURI GAMING COMMISSION
A2: DETAIL GAMING STATS - PUBLIC REPORT
A3: =ARG!$A$3 -> MONTH ENDED: JUNE 2026
D5: BOAT: ST. JOSEPH
A6: TABLE GAMES:
E7: TABLE | F7: TABLE | G7: ACTUAL
D8: UNITS | E8: DROP | F8: AGR | G8: HOLD %
A9: Blackjack
A10: Double Deck Blackjack
A11: Sic Bo
A12: Mississippi Stud | D12: 1 | E12: 91899 | F12: 24734 | G12: =F12/E12 -> 0.2691433
A13: Blackjack plus 3
A14: Double Deck Blackjack 21+3
A15: Blackjack Top 3
A16: Blackjack 6 to 5
A17: Bonus Craps
A18: Cajun Stud
A19: Craps
A20: Craps No More
A21: I LUV Suits | D21: 1 | E21: 12575 | F21: 3912 | G21: =F21/E21 -> 0.31109344
A22: Face Up Pai Gow
A23: Heads Up Hold'em
A24: Mini Bacarrat
A25: Roulette
A26: Poker w/o bad beat
A27: Bad Beat Poker - house funded
A28: Bad Beat Poker - player funded
A29: Three Card Poker/Stud
A30: Trilux | D30: 3 | E30: 172318 | F30: 25406 | G30: =F30/E30 -> 0.14743672
A31: Rising Phoenix
A32: DJ Wild
A33: Ultimate Texas Hold'em
A34: EZ Baccarat
A35: Table Tournaments
A36: Other
A37: Rounding
A38: TOTAL TABLE GAMES: | D38: =SUM(D9:D37) -> 5 | E38: =SUM(E9:E37) -> 276792 | F38: =SUM(F9:F37) -> 54052 | G38: =F38/E38 -> 0.19528021
A39: HYBRID TABLES
E40: HYBRID | F40: HYBRID | G40: ACTUAL
D41: UNITS | E41: HANDLE | F41: AGR | G41: PAYOUT % (1)
A42: Blackjack
A43: Craps | D43: 6 | E43: 75588.41 | F43: 4940.75 | G43: =1-(+F43/E43) -> 0.93463614
A44: Roulette
A45: Hybrid Tournaments
A46: Other
A47: Rounding
A48: TOTAL HYBRID: | D48: =SUM(D42:D45) -> 6 | E48: =SUM(E42:E47) -> 75588.41 | F48: =SUM(F42:F47) -> 4940.75 | G48: =1-(+F48/E48) -> 0.93463614
A49: ELECTRONIC GAMING DEVICES:
E50: SLOT | F50: SLOT | G50: ACTUAL
D51: UNITS | E51: HANDLE | F51: AGR | G51: PAYOUT % (1)
A52: 5 cents | D52: 25 | E52: 1930192.2 | F52: 121920.19 | G52: =1-(+F52/E52) -> 0.93683521
A53: 10 cents
A54: 25 cents | D54: 12 | E54: 777296.25 | F54: 93043 | G54: =1-(+F54/E54) -> 0.88029918
A55: 50 cents | D55: 7 | E55: 1000226.5 | F55: 53119.35 | G55: =1-(+F55/E55) -> 0.94689268
A56: $1.00 | D56: 17 | E56: 2011513.3 | F56: 127347.43 | G56: =1-(+F56/E56) -> 0.93669073
A57: $2.00
A58: $5.00 | D58: 3 | E58: 92315 | F58: 7085 | G58: =1-(+F58/E58) -> 0.92325191
A59: $10.00
A60: $25.00
A61: $100.00
A62: 1 cent | D62: 351 | E62: 32469253 | F62: 3594245.2 | G62: =1-(+F62/E62) -> 0.88930311
A63: 2 cents | D63: 19 | E63: 320331.49 | F63: 47135.86 | G63: =1-(+F63/E63) -> 0.85285287
A64: Slot Tournaments
A65: Wide Area Progressive
A66: Other
A67: Rounding
A68: TOTAL SLOTS: | D68: =SUM(D52:D65) -> 434 | E68: =SUM(E52:E67) -> 38601127 | F68: =SUM(F52:F67) -> 4043896.1 | G68: =1-(+F68/E68) -> 0.89523891
A69: TOTAL AGR FOR MONTH: | F69: =+F68+F48+F38 -> 4102888.8

Sheet CAPE
A1: MISSOURI GAMING COMMISSION
A2: DETAIL GAMING STATS - PUBLIC REPORT
A3: =ARG!$A$3 -> MONTH ENDED: JUNE 2026
D5: BOAT: CENTURY CAPE GIRARDEAU
A6: TABLE GAMES:
E7: TABLE | F7: TABLE | G7: ACTUAL
D8: UNITS | E8: DROP | F8: AGR | G8: HOLD %
A9: Blackjack
A10: Double Deck Blackjack
A11: Single Deck Blackjack
A12: Ultimate Texas Hold 'Em
A13: Caribbean Stud
A14: 21 plus 3
A15: Mississippi Stud | D15: 3 | E15: 514360 | F15: 203519 | G15: =F15/E15 -> 0.39567424
A16: Prime 21
A17: High Card Flush
A18: Craps
A19: No Craps, Craps | D19: 1 | E19: 560818 | F19: 168819 | G19: =F19/E19 -> 0.30102279
A20: Lunar Poker
A21: Super 7
A22: Let It Ride
A23: EZ Mini Bacarrat
A24: Mini Bacarrat | D24: 2 | E24: 846677 | F24: 230913.5 | G24: =F24/E24 -> 0.27272915
A25: Roulette
A26: Poker w/o bad beat | D26: 4 | E26: 12518 | F26: 12518 | G26: =F26/E26 -> 1
A27: Bad Beat Poker - house funded
A28: Bad Beat Poker - player funded
A29: Three Card Poker | D29: 1 | E29: 74745 | F29: 30702 | G29: =F29/E29 -> 0.41075657
A30: Trilux | D30: 11 | E30: 922403 | F30: 150386.5 | G30: =F30/E30 -> 0.16303774
A31: Straw Poker
A32: 65 to 5 BJ
A33: EZ Pai Gow
A34: Ultimate Texas Poker | D34: 1 | E34: 237712 | F34: 82263.5 | G34: =F34/E34 -> 0.34606372
A35: Table Tournaments | E35: 990 | F35: 0
A36: Other
A37: Rounding
A39: TOTAL TABLE GAMES: | D39: =SUM(D9:D38) -> 23 | E39: =SUM(E9:E38) -> 3170223 | F39: =SUM(F9:F38) -> 879121.5 | G39: =F39/E39 -> 0.27730589
A41: ELECTRONIC GAMING DEVICES:
E42: SLOT | F42: SLOT | G42: ACTUAL
D43: UNITS | E43: HANDLE | F43: AGR | G43: PAYOUT % (1)
A44: 5 cents | D44: 29 | E44: 748901.9 | F44: 97756.61 | G44: =1-(+F44/E44) -> 0.86946674
A45: 10 cents
A46: 25 cents | D46: 61 | E46: 2443136.5 | F46: 195652.46 | G46: =1-(+F46/E46) -> 0.91991751
A47: 50 cents | D47: 12 | E47: 2973765.5 | F47: 92906 | G47: =1-(+F47/E47) -> 0.96875813
A48: $1.00 | D48: 62 | E48: 3614802.9 | F48: 370338.51 | G48: =1-(+F48/E48) -> 0.89754946
A49: $2.00
A50: $5.00 | D50: 8 | E50: 590535 | F50: 10690 | G50: =1-(+F50/E50) -> 0.98189777
A51: $10.00 | D51: 4 | E51: 218250 | F51: 12380 | G51: =1-(+F51/E51) -> 0.94327606
A52: $25.00 | D52: 2 | E52: 427475 | F52: 40700 | G52: =1-(+F52/E52) -> 0.90478975
A53: $100.00
A54: 1 cent | D54: 594 | E54: 40394923 | F54: 4569770 | G54: =1-(+F54/E54) -> 0.88687266
A55: 2 cents | D55: 8 | E55: 882654.25 | F55: 51726.87 | G55: =1-(+F55/E55) -> 0.94139623
A56: Slot Tournaments
A57: Wide Area Progressive
A58: Other
A59: Rounding
A61: TOTAL SLOTS: | D61: =SUM(D44:D57) -> 780 | E61: =SUM(E44:E60) -> 52294444 | F61: =SUM(F44:F60) -> 5441920.4 | G61: =1-(F61/E61) -> 0.89593693
A63: TOTAL AGR FOR MONTH: | F63: =F61+F39 -> 6321041.9
A65: (1) The above payout percentages for slots represent the actual payout for a one month period only.
A66: The 80% minimum payout per Section 313.805(12) RSMO is not limited to any one month period
A67: and is calculated based on standard probability and statistical theory.
A69: NOTE: THE FIGURES IN THIS REPORT ARE SUBJECT TO ADJUSTMENT

Sheet STATE TOTALS
A1: MISSOURI GAMING COMMISSION
A2: DETAIL GAMING STATS - PUBLIC REPORT
A3: STATEWIDE TOTALS
A4: =ARG!$A$3 -> MONTH ENDED: JUNE 2026
A6: TABLE GAMES: | B6: =+ARG!$D$39+CARUTHERSVILLE!$D$39+HOLLYWOOD!$D$39+HARKC!$D$39+BALLYSKC!$D$39+AMERKC!$D$39+LAGRANGE!$D$39+AMERSC!$D$39+RIVERCITY!$D$39+HORSESHOE!$D$39+ISLEBV!$D$39+STJO!$D$38+CAPE!$D$39 -> 407
A7: TABLE DROP: | B7: =+ARG!$E$39+CARUTHERSVILLE!$E$39+HOLLYWOOD!$E$39+HARKC!$E$39+BALLYSKC!$E$39+AMERKC!$E$39+LAGRANGE!$E$39+AMERSC!$E$39+RIVERCITY!$E$39+HORSESHOE!$E$39+ISLEBV!$E$39+STJO!$E$38+CAPE!$E$39 -> 1.1454941e+08
A8: TABLE AGR: | B8: =+ARG!$F$39+CARUTHERSVILLE!$F$39+HOLLYWOOD!$F$39+HARKC!$F$39+BALLYSKC!$F$39+AMERKC!$F$39+LAGRANGE!$F$39+AMERSC!$F$39+RIVERCITY!$F$39+HORSESHOE!$F$39+ISLEBV!$F$39+STJO!$F$38+CAPE!$F$39 -> 22353795
A9: ACTUAL HOLD %: | B9: =B8/B7 -> 0.19514545
A11: HYBRID MACHINES: | B11: =STJO!$D$48 -> 6
A12: HYBRID HANDLE: | B12: =STJO!$E$48 -> 75588.41
A13: HYBRID AGR: | B13: =STJO!$F$48 -> 4940.75
A14: ACTUAL PAYOUT %: | B14: =1-(B13/B12) -> 0.93463614
A16: SLOT MACHINES: | B16: =+ARG!$D$61+CARUTHERSVILLE!$D$60+HOLLYWOOD!$D$62+HARKC!$D$62+BALLYSKC!$D$62+AMERKC!$D$62+LAGRANGE!$D$61+AMERSC!$D$61+RIVERCITY!$D$61+HORSESHOE!$D$61+ISLEBV!$D$60+STJO!$D$68+CAPE!$D$61 -> 13410
A17: SLOT HANDLE: | B17: =+ARG!$E$61+CARUTHERSVILLE!$E$60+HOLLYWOOD!$E$62+HARKC!$E$62+BALLYSKC!$E$62+AMERKC!$E$62+LAGRANGE!$E$61+AMERSC!$E$61+RIVERCITY!$E$61+HORSESHOE!$E$61+ISLEBV!$E$60+STJO!$E$68+CAPE!$E$61 -> 1.4479895e+09
A18: SLOT AGR: | B18: =+ARG!$F$61+CARUTHERSVILLE!$F$60+HOLLYWOOD!$F$62+HARKC!$F$62+BALLYSKC!$F$62+AMERKC!$F$62+LAGRANGE!$F$61+AMERSC!$F$61+RIVERCITY!$F$61+HORSESHOE!$F$61+ISLEBV!$F$60+STJO!$F$68+CAPE!$F$61 -> 1.4187799e+08
A19: ACTUAL PAYOUT %: | B19: =1-(B18/B17) -> 0.90201725
A21: GRAND TOTAL AGR: | B21: =B18+B8+B13 -> 1.6423673e+08
A24: NOTE: THE FIGURES IN THIS REPORT ARE SUBJECT TO ADJUSTMENT
